BEGIN:VCALENDAR
VERSION:2.0
PRODID:-//wp-events-plugin.com//7.2.3.1//EN
TZID:America/Los_Angeles
X-WR-TIMEZONE:America/Los_Angeles
BEGIN:VEVENT
UID:14286@fakce.org
DTSTART;TZID=America/Los_Angeles:20220604T090000
DTEND;TZID=America/Los_Angeles:20220604T153000
DTSTAMP:20220408T215600Z
URL:https://fakce.org/events/online-parenting-the-sexually-abused-child-20
 22-06-04/
SUMMARY:Online |  Parenting the Sexually Abused Child
DESCRIPTION:As a parent or caregiver of a child or youth who has a known or
  suspected history of being sexually abused\, you may feel confused about
  the impact of the abuse and uncertain about how you can help. However\, i
 t is important to understand that children and youth who have been abused 
 need to feel safe and loved in nurturing homes. As a parent or caregiver\,
  you can play a central role in your child’s healing process\, as well a
 s in “building resilience\,” which strengthens your child’s ability 
 to adapt to or cope with adversity. This class will discuss normal sexual 
 development\, the special needs of sexualized children\, recommended treat
 ment for sexually abused children\, and accessing resources that can help 
 in your child’s healing process.\nRegistration will close on Friday\, Ju
 ne 3\, 2022 at 12pm\n&nbsp\;\n***Please Note: This class will be facilitat
 ed on the online platform called Zoom. Internet access and access to a com
 puter/laptop/tablet/smartphone is required to attend.\nThe link to attend 
 this class will be provided at registration.\nPlease follow the link below
  for a brief tutorial on how to sign up for a free Zoom account.\nZoom Use
 r Guide
ATTACH;FMTTYPE=image/jpeg:https://fakce.org/wp-content/uploads/2016/08/o-C
 LASSROOM-facebook.jpg
CATEGORIES:Classes,Online Classes,Specialty Classes
LOCATION:Zoom\, 0000 Zoom \, San Diego\, United States
X-APPLE-STRUCTURED-LOCATION;VALUE=URI;X-ADDRESS=0000 Zoom \, San Diego\, Un
 ited States;X-APPLE-RADIUS=100;X-TITLE=Zoom:geo:0,0
END:VEVENT
BEGIN:VTIMEZONE
TZID:America/Los_Angeles
X-LIC-LOCATION:America/Los_Angeles
BEGIN:DAYLIGHT
DTSTART:20220313T030000
TZOFFSETFROM:-0800
TZOFFSETTO:-0700
TZNAME:PDT
END:DAYLIGHT
END:VTIMEZONE
END:VCALENDAR