BEGIN:VCALENDAR
VERSION:2.0
PRODID:-//wp-events-plugin.com//7.2.3.1//EN
TZID:America/Los_Angeles
X-WR-TIMEZONE:America/Los_Angeles
BEGIN:VEVENT
UID:14226@fakce.org
DTSTART;TZID=America/Los_Angeles:20220423T090000
DTEND;TZID=America/Los_Angeles:20220423T153000
DTSTAMP:20220211T182054Z
URL:https://fakce.org/events/online-parenting-the-explosive-child-2022-04-
 23/
SUMMARY:Online |  Parenting the Explosive Child
DESCRIPTION:Explosive and noncompliant children and adolescents present si
 gniﬁcant challenges to parents and can cause distress in the family. Suc
 h children tend to be quite misunderstood and their behavioral challenges 
 are often poorly addressed by traditional discipline strategies. This clas
 s will help parents understand the speciﬁc cognitive skill deﬁcits tha
 t can impair a child’s capacity for ﬂexibility and frustration toleran
 ce and provide a step‐by‐step process known as Cognitive Problem Solv
 ing (CPS) for teaching these skills.\nRegistration will close on  Friday\
 , April 23\, 2022 at 12 pm\n&nbsp\;\n***Please Note: This class will be fa
 cilitated on the online platform called Zoom. Internet access and access t
 o a computer/laptop/tablet/smartphone is required to attend.\nThe link to 
 attend this class will be provided at registration.\nPlease follow the lin
 k below for a brief tutorial on how to sign up for a free Zoom account.\nZ
 oom User Guide
ATTACH;FMTTYPE=image/jpeg:https://fakce.org/wp-content/uploads/2016/08/o-C
 LASSROOM-facebook.jpg
CATEGORIES:Classes,Online Classes,Specialty Classes
LOCATION:Zoom\, 0000 Zoom \, San Diego\, United States
X-APPLE-STRUCTURED-LOCATION;VALUE=URI;X-ADDRESS=0000 Zoom \, San Diego\, Un
 ited States;X-APPLE-RADIUS=100;X-TITLE=Zoom:geo:0,0
END:VEVENT
BEGIN:VTIMEZONE
TZID:America/Los_Angeles
X-LIC-LOCATION:America/Los_Angeles
BEGIN:DAYLIGHT
DTSTART:20220313T030000
TZOFFSETFROM:-0800
TZOFFSETTO:-0700
TZNAME:PDT
END:DAYLIGHT
END:VTIMEZONE
END:VCALENDAR