BEGIN:VCALENDAR
VERSION:2.0
PRODID:-//wp-events-plugin.com//7.2.3.1//EN
TZID:America/Los_Angeles
X-WR-TIMEZONE:America/Los_Angeles
BEGIN:VEVENT
UID:14207@fakce.org
DTSTART;TZID=America/Los_Angeles:20220409T090000
DTEND;TZID=America/Los_Angeles:20220409T120000
DTSTAMP:20220210T205616Z
URL:https://fakce.org/events/online-parenting-the-adolescent-2022-04-09/
SUMMARY:Online |  Parenting the Adolescent
DESCRIPTION:Have you ever wondered what makes your adolescent tick? Adoles
 cence can be a confusing and very stressful time for parents\, as well as 
 for their children going through adolescence. Parents may struggle to know
  how to parent as their child and their relationship with their child chan
 ges. A goal of parenting an adolescent is supporting more mutual detachmen
 t to foster the young person’s growing trust in self‐reliance\, thereb
 y able to grow their own wings. Join our instructors who will share insigh
 ts and information about parenting strategies to deal with challenges\, ad
 olescent development and all things important if you are raising an adoles
 cent.\nRegistration will close on Friday\, April 8\, 2022\, at 12 pm\n&nbs
 p\;\n***Please Note: This class will be facilitated on the online platform
  called Zoom. Internet access and access to a computer/laptop/tablet/smart
 phone is required to attend.\nThe link to attend this class will be provid
 ed at registration.\nPlease follow the link below for a brief tutorial on 
 how to sign up for a free Zoom account.\nZoom User Guide
ATTACH;FMTTYPE=image/jpeg:https://fakce.org/wp-content/uploads/2016/08/o-C
 LASSROOM-facebook.jpg
CATEGORIES:Classes,Online Classes,Specialty Classes
LOCATION:Zoom\, 0000 Zoom \, San Diego\, United States
X-APPLE-STRUCTURED-LOCATION;VALUE=URI;X-ADDRESS=0000 Zoom \, San Diego\, Un
 ited States;X-APPLE-RADIUS=100;X-TITLE=Zoom:geo:0,0
END:VEVENT
BEGIN:VTIMEZONE
TZID:America/Los_Angeles
X-LIC-LOCATION:America/Los_Angeles
BEGIN:DAYLIGHT
DTSTART:20220313T030000
TZOFFSETFROM:-0800
TZOFFSETTO:-0700
TZNAME:PDT
END:DAYLIGHT
END:VTIMEZONE
END:VCALENDAR