BEGIN:VCALENDAR
VERSION:2.0
PRODID:-//wp-events-plugin.com//7.2.3.1//EN
TZID:America/Los_Angeles
X-WR-TIMEZONE:America/Los_Angeles
BEGIN:VEVENT
UID:18126@fakce.org
DTSTART;TZID=America/Los_Angeles:20260409T180000
DTEND;TZID=America/Los_Angeles:20260409T200000
DTSTAMP:20260130T133606Z
URL:https://fakce.org/events/online-parenting-teens-support-group-secrets-
 to-parenting-teens-2026-04-09/
SUMMARY:Online | Parenting Teens Support Group: Secrets to Parenting Teens
DESCRIPTION:Meets every 2nd Thursday of the month\n**No Meeting in December
 **\nSupport Group Leader: MaryJo Meer\n\nTopic: Teens want to pilot their
  own planes. In their efforts to keep control\, some parents can become in
 effective and invite more rebellion with over-controlling parenting. Paren
 ts are scared to turn over the controls for fear their child is not ready 
 for responsibility or may get hurt or fail. You can learn to copilot with 
 your teen if you learn the Positive Discipline skills of a kind and firm p
 arent. Be available for support and guidance while encouraging your teen t
 o be a skilled and responsible pilot.\n***Please Note: This class will be 
 facilitated on the Zoom platform.\n Internet access and access to a comput
 er/laptop/tablet/smartphone is required to attend.\nFor our support group 
 meetings\, all participants must have their cameras on\, regardless of wh
 ether they are seeking credit or not. This requirement is designed to enco
 urage full engagement and connection among participants\, fostering a more
  supportive atmosphere within our community. Please note that individuals 
 unable to participate with their cameras on will not be able to join the s
 upport group sessions.\nWe kindly request that participants avoid using di
 stracting virtual backgrounds. For privacy\, we recommend using the blur f
 eature instead.\nYou cannot take this class in a vehicle.\nThe link to att
 end this class will be provided via email.\nPlease follow the link below f
 or a brief tutorial on how to sign up for a free Zoom account.\nZoom User 
 Guide
ATTACH;FMTTYPE=image/jpeg:https://fakce.org/wp-content/uploads/2019/01/Sec
 ret.jpg
CATEGORIES:Classes,Online Classes,Support Groups,Workshops
LOCATION:Zoom\, 0000 Zoom \, San Diego\, United States
X-APPLE-STRUCTURED-LOCATION;VALUE=URI;X-ADDRESS=0000 Zoom \, San Diego\, Un
 ited States;X-APPLE-RADIUS=100;X-TITLE=Zoom:geo:0,0
END:VEVENT
BEGIN:VTIMEZONE
TZID:America/Los_Angeles
X-LIC-LOCATION:America/Los_Angeles
BEGIN:DAYLIGHT
DTSTART:20260308T030000
TZOFFSETFROM:-0800
TZOFFSETTO:-0700
TZNAME:PDT
END:DAYLIGHT
END:VTIMEZONE
END:VCALENDAR