BEGIN:VCALENDAR
VERSION:2.0
PRODID:-//wp-events-plugin.com//7.2.3.1//EN
TZID:America/Los_Angeles
X-WR-TIMEZONE:America/Los_Angeles
BEGIN:VEVENT
UID:14171@fakce.org
DTSTART;TZID=America/Los_Angeles:20220319T090000
DTEND;TZID=America/Los_Angeles:20220319T153000
DTSTAMP:20220208T210840Z
URL:https://fakce.org/events/online-parenting-from-the-inside-out-2022-03-
 19/
SUMMARY:Online | Parenting From the Inside Out
DESCRIPTION:This workshop will help parents to understand the reason why t
 hey act and react the way they do to their children and how they can chang
 e that. It also oﬀers an in‐depth look at how the human brain works an
 d how it ties directly to parenting. This workshop will help parents to 
 ﬁgure out what their baggage is and how to separate it from their relati
 onship with their child. In addition\, parents will learn the role of the 
 attachment bonds they developed as a child and in adulthood and how their 
 attachment style can inﬂuence the way they react to children and their o
 wn need for attachment. We hope you can join us!\nRegistration will close 
 on Friday\, March 18\, 2022\, at 12 pm\n***Please Note: This class will be
  facilitated on the online platform called Zoom. Internet access and acces
 s to a computer/laptop/tablet/smartphone is required to attend.\nThe link 
 to attend this class will be provided at registration.\nPlease follow the 
 link below for a brief tutorial on how to sign up for a free Zoom account.
 \nZoom User Guide
ATTACH;FMTTYPE=image/jpeg:https://fakce.org/wp-content/uploads/2016/08/o-C
 LASSROOM-facebook.jpg
CATEGORIES:Classes,Online Classes,Specialty Classes
LOCATION:Zoom\, 0000 Zoom \, San Diego\, United States
X-APPLE-STRUCTURED-LOCATION;VALUE=URI;X-ADDRESS=0000 Zoom \, San Diego\, Un
 ited States;X-APPLE-RADIUS=100;X-TITLE=Zoom:geo:0,0
END:VEVENT
BEGIN:VTIMEZONE
TZID:America/Los_Angeles
X-LIC-LOCATION:America/Los_Angeles
BEGIN:DAYLIGHT
DTSTART:20220313T030000
TZOFFSETFROM:-0800
TZOFFSETTO:-0700
TZNAME:PDT
END:DAYLIGHT
END:VTIMEZONE
END:VCALENDAR