BEGIN:VCALENDAR
VERSION:2.0
PRODID:-//wp-events-plugin.com//7.2.3.1//EN
TZID:America/Los_Angeles
X-WR-TIMEZONE:America/Los_Angeles
BEGIN:VEVENT
UID:16280@fakce.org
DTSTART;TZID=America/Los_Angeles:20260401T173000
DTEND;TZID=America/Los_Angeles:20260401T193000
DTSTAMP:20260130T121208Z
URL:https://fakce.org/events/online-options-support-group-working-with-bir
 th-parents-2026-04-01/
SUMMARY:Online | Options Support Group: Working with Birth Parents
DESCRIPTION:Meets every 1st Wednesday of each month\n**No meeting in Januar
 y\, July - September and December**\nSupport Group Leader: Emma Martinez-
 Tidmore\n\n(The Options for Recovery Perinatal Program is for caregivers c
 aring for children ages 0 to 60 months who are drug and/or alcohol exposed
  and/or HIV-positive. Options Caregivers receive 35 hours of specialized t
 raining and qualify for 48 hours of monthly respite. If you are interested
  in becoming an Options caregiver\, please call Arleth A. Rubio\, Protect
 ive Services Supervisor at O: (858) 650-5518 | C: (858) 344-1164  or email
  Arleth.Rubio@sdcounty.ca.gov.)\n\nTopic: This class shares practical tip
 s to help create and sustain positive lasting relationships between birth 
 families\, foster families and kinship caregivers to best support the chil
 dren and youth in their care.\n***Please Note: This TIPS class will be fa
 cilitated on the Zoom platform.\nInternet access and access to a computer/
 laptop/tablet/smartphone is required to attend.\nWe kindly request that pa
 rticipants avoid using distracting virtual backgrounds. For privacy\, we r
 ecommend using the blur feature instead.\nYou cannot take this class in a 
 vehicle.\nThe Zoom link to attend this class will be provided via email.\n
 Please follow the link below for a brief tutorial on how to sign up for a 
 free Zoom account.\nZoom User Guide
ATTACH;FMTTYPE=image/jpeg:https://fakce.org/wp-content/uploads/2016/07/fri
 endship-468851_1280.jpg
CATEGORIES:Classes,Online Classes,Support Groups,Workshops
LOCATION:Zoom\, 0000 Zoom \, San Diego\, United States
X-APPLE-STRUCTURED-LOCATION;VALUE=URI;X-ADDRESS=0000 Zoom \, San Diego\, Un
 ited States;X-APPLE-RADIUS=100;X-TITLE=Zoom:geo:0,0
END:VEVENT
BEGIN:VTIMEZONE
TZID:America/Los_Angeles
X-LIC-LOCATION:America/Los_Angeles
BEGIN:DAYLIGHT
DTSTART:20260308T030000
TZOFFSETFROM:-0800
TZOFFSETTO:-0700
TZNAME:PDT
END:DAYLIGHT
END:VTIMEZONE
END:VCALENDAR