BEGIN:VCALENDAR
VERSION:2.0
PRODID:-//wp-events-plugin.com//7.2.3.1//EN
TZID:America/Los_Angeles
X-WR-TIMEZONE:America/Los_Angeles
BEGIN:VEVENT
UID:17362@fakce.org
DTSTART;TZID=America/Los_Angeles:20250108T180000
DTEND;TZID=America/Los_Angeles:20250108T200000
DTSTAMP:20241217T235912Z
URL:https://fakce.org/events/online-ntdc-attachment-2025-01-08/
SUMMARY:Online | NTDC: Attachment
DESCRIPTION:Part of The National Training and Development Curriculum\nInstr
 uctors: Robin Thompson\, MSW &amp\; MaryAnn Paschal\, Resource/Adoptive Pa
 rent\nThe role of attachment is critical. This session helps participants 
 understand the importance of attachment in parenting both for the children
  and parents who are fostering or adopting. It covers the impact of fractu
 red attachments/lack of attachments on children’s ability to attach and 
 identifies strategies to develop healthy attachment bonds. The session als
 o covers developing trust and developing children’s sense of connectedne
 ss and belonging. How to be attuned to children\, recognizing\, and honori
 ng children’s primary attachment to their families is also highlighted.\
 n&nbsp\;\nRegistration will close on Wednesday\, January 8\, 2025 at 7 am
  \n***Please Note: This class will be facilitated on the Zoom platform.\n
 Internet access and access to a computer/laptop/tablet/smartphone is requi
 red to attend.\nWe kindly request that participants avoid using distractin
 g virtual backgrounds. For privacy\, we recommend using the blur feature i
 nstead.\nYou cannot take this class in a vehicle.\nThe Zoom link to attend
  this class will be provided via email.\nPlease follow the link below for 
 a brief tutorial on how to sign up for a free Zoom account.\nZoom User Gui
 de
ATTACH;FMTTYPE=image/jpeg:https://fakce.org/wp-content/uploads/2023/04/ist
 ockphoto-1313553003-612x612-1.jpg
CATEGORIES:Classes,Online Classes,Specialty Classes
LOCATION:Zoom\, 0000 Zoom \, San Diego\, United States
X-APPLE-STRUCTURED-LOCATION;VALUE=URI;X-ADDRESS=0000 Zoom \, San Diego\, Un
 ited States;X-APPLE-RADIUS=100;X-TITLE=Zoom:geo:0,0
END:VEVENT
BEGIN:VTIMEZONE
TZID:America/Los_Angeles
X-LIC-LOCATION:America/Los_Angeles
BEGIN:STANDARD
DTSTART:20241103T010000
TZOFFSETFROM:-0700
TZOFFSETTO:-0800
TZNAME:PST
END:STANDARD
END:VTIMEZONE
END:VCALENDAR