BEGIN:VCALENDAR
VERSION:2.0
PRODID:-//wp-events-plugin.com//7.2.3.1//EN
TZID:America/Los_Angeles
X-WR-TIMEZONE:America/Los_Angeles
BEGIN:VEVENT
UID:17524@fakce.org
DTSTART;TZID=America/Los_Angeles:20250124T093000
DTEND;TZID=America/Los_Angeles:20250124T123000
DTSTAMP:20250124T171825Z
URL:https://fakce.org/events/online-new-year-%e2%80%90-new-you-taking-care
 -of-you-the-importance-of-self-care-in-the-work-of-caregiving-2025-01-24/
SUMMARY:Online | New Year ‐ New You! Taking Care of You: The Importance o
 f Self Care in the Work of Caregiving
DESCRIPTION:Guest Speaker\n\n\nInstructor: Laura Ornelas\, LCSW\nDescriptio
 n: Parenting children is hard work. Parenting those who have experienced l
 oss and trauma can be even more challenging. Getting the necessary skills 
 will make all the diﬀerence for the journey. Believe it or not\, one of 
 the critical tools is taking good care of yourself. It’s a win‐win bec
 ause it benefits you and your family! In this workshop\, we’ll be steppi
 ng away from the children’s needs to focus on your own. We’ll be talki
 ng a bit about the relationship between self care and parenting and doing 
 some reflective activities and gentle movement to allow our minds and bodi
 es to be replenished in healthy ways. Give yourself permission to leave yo
 ur responsibilities for just a bit and join us. It’ll do you and your lo
 ved ones good.\n&nbsp\;\nRegistration will close on Thursday January 23\, 
 2025 at 12 pm\n&nbsp\;\n\n&nbsp\;\n***Please Note: This class will be faci
 litated on the Zoom platform.\nInternet access and access to a computer/la
 ptop/tablet/smartphone is required to attend.\nWe kindly request that part
 icipants avoid using distracting virtual backgrounds. For privacy\, we rec
 ommend using the blur feature instead.\nYou cannot take this class in a ve
 hicle.\nThe Zoom link to attend this class will be provided via email.\nPl
 ease follow the link below for a brief tutorial on how to sign up for a fr
 ee Zoom account.\nZoom User Guide
ATTACH;FMTTYPE=image/jpeg:https://fakce.org/wp-content/uploads/2015/03/000
 006882236.jpg
CATEGORIES:Classes,Online Classes,Specialty Classes
LOCATION:Zoom\, 0000 Zoom \, San Diego\, United States
X-APPLE-STRUCTURED-LOCATION;VALUE=URI;X-ADDRESS=0000 Zoom \, San Diego\, Un
 ited States;X-APPLE-RADIUS=100;X-TITLE=Zoom:geo:0,0
END:VEVENT
BEGIN:VTIMEZONE
TZID:America/Los_Angeles
X-LIC-LOCATION:America/Los_Angeles
BEGIN:STANDARD
DTSTART:20241103T010000
TZOFFSETFROM:-0700
TZOFFSETTO:-0800
TZNAME:PST
END:STANDARD
END:VTIMEZONE
END:VCALENDAR