BEGIN:VCALENDAR
VERSION:2.0
PRODID:-//wp-events-plugin.com//7.2.3.1//EN
TZID:America/Los_Angeles
X-WR-TIMEZONE:America/Los_Angeles
BEGIN:VEVENT
UID:18459@fakce.org
DTSTART;TZID=America/Los_Angeles:20260227T150000
DTEND;TZID=America/Los_Angeles:20260227T180000
DTSTAMP:20260220T124834Z
URL:https://fakce.org/events/online-ncrc-trauma-informed-client-connection
 -2026-02-27/
SUMMARY:Online | NCRC Trauma Informed Client Connection
DESCRIPTION:Partnership with the National Conflict Resolution Center\n&nbsp
 \;\nDescription: This workshop introduces practical trauma-informed commun
 ication skills to help caregivers build trust\, safety\, and stronger rela
 tionships with children and families who have experienced trauma. Particip
 ants will explore foundational concepts of trauma\, its types\, causes\, a
 nd effects\, and learn strategies to create psychologically safe environme
 nts through effective communication\, trauma-informed interpretations of b
 ehavior\, and supportive co-regulation. The session also provides tools fo
 r de-escalation and resilience-building that can be applied immediately in
  daily interactions.\n***Please Note: This class will be facilitated on th
 e online platform called Zoom. Internet access and access to a computer/la
 ptop/tablet/smartphone is required to attend.\nThe link to attend this cla
 ss will be provided at registration.\nPlease follow the link below for a b
 rief tutorial on how to sign up for a free Zoom account.\nZoom User Guide
ATTACH;FMTTYPE=image/jpeg:https://fakce.org/wp-content/uploads/2016/03/boy
 -928655_1280.jpg
CATEGORIES:Classes,Online Classes,Specialty Classes
LOCATION:Zoom\, 0000 Zoom \, San Diego\, United States
X-APPLE-STRUCTURED-LOCATION;VALUE=URI;X-ADDRESS=0000 Zoom \, San Diego\, Un
 ited States;X-APPLE-RADIUS=100;X-TITLE=Zoom:geo:0,0
END:VEVENT
BEGIN:VTIMEZONE
TZID:America/Los_Angeles
X-LIC-LOCATION:America/Los_Angeles
BEGIN:STANDARD
DTSTART:20251102T010000
TZOFFSETFROM:-0700
TZOFFSETTO:-0800
TZNAME:PST
END:STANDARD
END:VTIMEZONE
END:VCALENDAR