BEGIN:VCALENDAR
VERSION:2.0
PRODID:-//wp-events-plugin.com//7.2.3.1//EN
TZID:America/Los_Angeles
X-WR-TIMEZONE:America/Los_Angeles
BEGIN:VEVENT
UID:16660@fakce.org
DTSTART;TZID=America/Los_Angeles:20240301T180000
DTEND;TZID=America/Los_Angeles:20240301T200000
DTSTAMP:20240226T232919Z
URL:https://fakce.org/events/online-mindfulness-series-waking-up-through-a
 nger-blame-and-conflict-2024-03-01/
SUMMARY:Online | Mindfulness Series: Waking up through Anger\, Blame\, and 
 Conflict
DESCRIPTION:Part 6 of the Mindfulness Series\nDescription: Mindfulness is t
 he practice of being present to one’s experience with loving attention\,
  which studies have shown helps reduce stress and promotes wellbeing. In t
 his class students will learn how mindfulness can be a powerful tool in re
 solving anger and interpersonal conflicts. Mindfulness acknowledges that c
 onflict and anger happen in all relationships and that the key to bringing
  healing to hurt hearts lies within us. Students will be guided through mi
 ndfulness practices that lead to inner harmony and loving and harmonious r
 elationships.\n\nSpecial Guest Presenter: Bettina Heitmann\, Mindfulness M
 editation Teacher\nBettina Heitmann is a graduate of the 2‐year Mindfuln
 ess Meditation Teacher Certification Program\, sponsored by the University
  of California Berkeley Greater Good Science Center. She has practiced med
 itation and yoga for 20 years and finds these practices to be hugely benef
 icial for people living in this fast paced and high stress society. Bettna
  was a social worker with Child Welfare Services\, including the bilingual
  Adoptions Unit\, and non‐profit social service agencies for 13 years. S
 he has a particular interest in bringing mindfulness teachings to benefit 
 Resource parents and children.\nRegistration will close on Friday\, March 
 1\, 2024\, at 7am\n\nRegister for make-up part 5\, click here\n***Please N
 ote: This class will be facilitated on the online platform called Zoom. I
 nternet access and access to a computer/laptop/tablet/smartphone is requir
 ed to attend.\nThe link to attend this class will be provided at registrat
 ion.\nPlease follow the link below for a brief tutorial on how to sign up 
 for a free Zoom account.\nZoom User Guide
ATTACH;FMTTYPE=image/jpeg:https://fakce.org/wp-content/uploads/2023/04/ist
 ockphoto-478921850-170667a.jpg
CATEGORIES:Classes,Online Classes,Specialty Classes
LOCATION:Zoom\, 0000 Zoom \, San Diego\, United States
X-APPLE-STRUCTURED-LOCATION;VALUE=URI;X-ADDRESS=0000 Zoom \, San Diego\, Un
 ited States;X-APPLE-RADIUS=100;X-TITLE=Zoom:geo:0,0
END:VEVENT
BEGIN:VTIMEZONE
TZID:America/Los_Angeles
X-LIC-LOCATION:America/Los_Angeles
BEGIN:STANDARD
DTSTART:20231105T010000
TZOFFSETFROM:-0700
TZOFFSETTO:-0800
TZNAME:PST
END:STANDARD
END:VTIMEZONE
END:VCALENDAR