BEGIN:VCALENDAR
VERSION:2.0
PRODID:-//wp-events-plugin.com//7.2.3.1//EN
TZID:America/Los_Angeles
X-WR-TIMEZONE:America/Los_Angeles
BEGIN:VEVENT
UID:15681@fakce.org
DTSTART;TZID=America/Los_Angeles:20230513T083000
DTEND;TZID=America/Los_Angeles:20230513T123000
DTSTAMP:20230406T180754Z
URL:https://fakce.org/events/online-mental-health-in-children-and-teens-gu
 idance-for-resource-parents-2023-05-13/
SUMMARY:Online | Mental Health in Children and Teens: Guidance for Resource
  Parents
DESCRIPTION:Parents are as responsible for children's mental health as phys
 ical health and safety. This class highlights what contributes to good men
 tal health and resilience including mental health first aide. Some risk an
 d complicating factors particularly associated with child trauma and foste
 r care contribute to common mental health difficulties and diagnoses. Part
 icipants will learn and practice their parts in preventing and treating me
 ntal health issues. Specifically\, the class will address suicide\, assess
 ment\, prevention\, and safety planning.\n\n&nbsp\;\nRegistration will clo
 se on Friday\, May 12\, 2023\, at 12pm \n***Please Note: This class will
  be facilitated on the online platform called Zoom. Internet access and ac
 cess to a computer/laptop/tablet/smartphone is required to attend.\nThe li
 nk to attend this class will be provided at registration.\nPlease follow t
 he link below for a brief tutorial on how to sign up for a free Zoom accou
 nt.\nZoom User Guide
ATTACH;FMTTYPE=image/jpeg:https://fakce.org/wp-content/uploads/2016/07/fri
 endship-468851_1280.jpg
CATEGORIES:Classes,Online Classes,Specialty Classes
LOCATION:Zoom\, 0000 Zoom \, San Diego\, United States
X-APPLE-STRUCTURED-LOCATION;VALUE=URI;X-ADDRESS=0000 Zoom \, San Diego\, Un
 ited States;X-APPLE-RADIUS=100;X-TITLE=Zoom:geo:0,0
END:VEVENT
BEGIN:VTIMEZONE
TZID:America/Los_Angeles
X-LIC-LOCATION:America/Los_Angeles
BEGIN:DAYLIGHT
DTSTART:20230312T030000
TZOFFSETFROM:-0800
TZOFFSETTO:-0700
TZNAME:PDT
END:DAYLIGHT
END:VTIMEZONE
END:VCALENDAR