BEGIN:VCALENDAR
VERSION:2.0
PRODID:-//wp-events-plugin.com//7.2.3.1//EN
TZID:America/Los_Angeles
X-WR-TIMEZONE:America/Los_Angeles
BEGIN:VEVENT
UID:14774@fakce.org
DTSTART;TZID=America/Los_Angeles:20221013T180000
DTEND;TZID=America/Los_Angeles:20221013T210000
DTSTAMP:20220818T183239Z
URL:https://fakce.org/events/online-meet-your-state-foster-care-ombudsmen-
 2022-10-13/
SUMMARY:Online | Meet Your State Foster Care Ombudsmen
DESCRIPTION:Join us and the California Oﬃce of the Foster Care Ombudsper
 son for prudent parenting.\nRegistration will close on Thursday\, October 
 13\, 2022\, at 7 am \n***Please Note: This class will be facilitated on t
 he online platform called Zoom. Internet access and access to a computer/l
 aptop/tablet/smartphone is required to attend.\nThe link to attend this cl
 ass will be provided at registration.\nPlease follow the link below for a 
 brief tutorial on how to sign up for a free Zoom account.\nZoom User Guide
ATTACH;FMTTYPE=image/jpeg:https://fakce.org/wp-content/uploads/2021/05/Asi
 an-Family.jpg
CATEGORIES:Classes,Online Classes,Specialty Classes
LOCATION:Zoom\, 0000 Zoom \, San Diego\, United States
X-APPLE-STRUCTURED-LOCATION;VALUE=URI;X-ADDRESS=0000 Zoom \, San Diego\, Un
 ited States;X-APPLE-RADIUS=100;X-TITLE=Zoom:geo:0,0
END:VEVENT
BEGIN:VTIMEZONE
TZID:America/Los_Angeles
X-LIC-LOCATION:America/Los_Angeles
BEGIN:DAYLIGHT
DTSTART:20220313T030000
TZOFFSETFROM:-0800
TZOFFSETTO:-0700
TZNAME:PDT
END:DAYLIGHT
END:VTIMEZONE
END:VCALENDAR