BEGIN:VCALENDAR
VERSION:2.0
PRODID:-//wp-events-plugin.com//7.2.3.1//EN
TZID:America/Los_Angeles
X-WR-TIMEZONE:America/Los_Angeles
BEGIN:VEVENT
UID:17698@fakce.org
DTSTART;TZID=America/Los_Angeles:20250414T180000
DTEND;TZID=America/Los_Angeles:20250414T210000
DTSTAMP:20250216T222845Z
URL:https://fakce.org/events/online-mastering-the-maze-essential-forms-for
 -resource-parents-2025-04-14/
SUMMARY:Online | Mastering the Maze: Essential Forms for Resource Parents
DESCRIPTION:Instructors: Patty Boles\, Resource/Adoptive Parent\nDescriptio
 n: Navigating the world of Resource Parenting can be overwhelming\, especi
 ally when it comes to managing the essential forms and paperwork required 
 for success. Proper documentation is crucial for Resource Parents\, as it 
 ensures compliance with written directives and supports the well‐being o
 f children in care. Maintaining accurate records\, including medical and t
 herapeutic appointments\, school reports\, and IEPs\, helps prevent allega
 tions and keeps everything organized.\nThis interactive class will provide
  practical tips to meet these requirements eﬀectively and participants w
 ill gain a clear understanding of the most important forms Resource Parent
 s need to know\, including their purposes\, how to complete them accuratel
 y\, and tips for staying organized. Whether you're new to Resource Parenti
 ng or looking to refresh your knowledge\, this class will provide you with
  the tools and confidence to master the paperwork maze and focus on what m
 atters most—supporting the children in your care.\n&nbsp\;\n***Please No
 te: This class will be facilitated on the Zoom platform.\nInternet access 
 and access to a computer/laptop/tablet/smartphone is required to attend.\n
 We kindly request that participants avoid using distracting virtual backgr
 ounds. For privacy\, we recommend using the blur feature instead.\nYou can
 not take this class in a vehicle.\nThe Zoom link to attend this class will
  be provided via email.\nPlease follow the link below for a brief tutorial
  on how to sign up for a free Zoom account.\nZoom User Guide
ATTACH;FMTTYPE=image/jpeg:https://fakce.org/wp-content/uploads/2016/08/Cha
 iKids.jpg
CATEGORIES:Classes,Online Classes,Specialty Classes
LOCATION:Zoom\, 0000 Zoom \, San Diego\, United States
X-APPLE-STRUCTURED-LOCATION;VALUE=URI;X-ADDRESS=0000 Zoom \, San Diego\, Un
 ited States;X-APPLE-RADIUS=100;X-TITLE=Zoom:geo:0,0
END:VEVENT
BEGIN:VTIMEZONE
TZID:America/Los_Angeles
X-LIC-LOCATION:America/Los_Angeles
BEGIN:DAYLIGHT
DTSTART:20250309T030000
TZOFFSETFROM:-0800
TZOFFSETTO:-0700
TZNAME:PDT
END:DAYLIGHT
END:VTIMEZONE
END:VCALENDAR