BEGIN:VCALENDAR
VERSION:2.0
PRODID:-//wp-events-plugin.com//7.2.3.1//EN
TZID:America/Los_Angeles
X-WR-TIMEZONE:America/Los_Angeles
BEGIN:VEVENT
UID:18429@fakce.org
DTSTART;TZID=America/Los_Angeles:20260116T180000
DTEND;TZID=America/Los_Angeles:20260116T210000
DTSTAMP:20251212T201342Z
URL:https://fakce.org/events/online-loving-your-children-while-loving-your
 self-2026-01-16/
SUMMARY:Online | Loving your Children While Loving Yourself
DESCRIPTION:Instructors: Carrie Collins\, Resource/Adoptive Parent\nDescrip
 tion: Taking care of children\, especially those with special needs\, can 
 be exhausting\, and we often can find ourselves burnt out and depleted of 
 energy and motivation.\nHow do we balance our dedication to these children
 \, whom we love\, and take care of ourselves at the same time? Learn tips 
 to loving ourselves while being the best for our kids.\n***Please Note: Th
 is class will be facilitated on the Zoom platform.\nInternet access and ac
 cess to a computer/laptop/tablet/smartphone is required to attend.\nWe kin
 dly request that participants avoid using distracting virtual backgrounds.
  For privacy\, we recommend using the blur feature instead.\nYou cannot ta
 ke this class in a vehicle.\nThe Zoom link to attend this class will be pr
 ovided via email.\nPlease follow the link below for a brief tutorial on ho
 w to sign up for a free Zoom account.\nZoom User Guide
ATTACH;FMTTYPE=image/jpeg:https://fakce.org/wp-content/uploads/2016/08/kid
 s-·-kids-·-kids.jpg
CATEGORIES:Classes,Online Classes,Specialty Classes
LOCATION:Zoom\, 0000 Zoom \, San Diego\, United States
X-APPLE-STRUCTURED-LOCATION;VALUE=URI;X-ADDRESS=0000 Zoom \, San Diego\, Un
 ited States;X-APPLE-RADIUS=100;X-TITLE=Zoom:geo:0,0
END:VEVENT
BEGIN:VTIMEZONE
TZID:America/Los_Angeles
X-LIC-LOCATION:America/Los_Angeles
BEGIN:STANDARD
DTSTART:20251102T010000
TZOFFSETFROM:-0700
TZOFFSETTO:-0800
TZNAME:PST
END:STANDARD
END:VTIMEZONE
END:VCALENDAR