BEGIN:VCALENDAR
VERSION:2.0
PRODID:-//wp-events-plugin.com//7.2.3.1//EN
TZID:America/Los_Angeles
X-WR-TIMEZONE:America/Los_Angeles
BEGIN:VEVENT
UID:18434@fakce.org
DTSTART;TZID=America/Los_Angeles:20260121T093000
DTEND;TZID=America/Los_Angeles:20260121T123000
DTSTAMP:20260115T205724Z
URL:https://fakce.org/events/online-kinship-care-mastery-2026-01-21/
SUMMARY:Online | Kinship Care Mastery
DESCRIPTION:Instructor: Ron Huxley\, LMFT\n\nRon Huxley is a Licensed Marri
 age and Family Therapist with over 30 years of experience specializing in 
 adoption and permanency issues. He served as Director of a post-adoption m
 ental health clinic and is a nationally recognized speaker on adoption top
 ics. Ron integrates evidence-based practices with specialized knowledge of
  adoption-specific concerns\, helping families build resilience and health
 y relationships. He continues to serve the adoption community through Fami
 lyHealer.tv providing resources and tools for families and professionals.\
 n\nDescription: This training equips professionals with trauma-informed st
 rategies to support kinship caregivers navigating complex family dynamics\
 , role confusion\, and boundary challenges while maintaining relationships
  with birth parents. Participants will learn evidence-based approaches to 
 help kinship families manage guilt\, grief\, and divided loyalties while e
 nsuring child safety.\n\n                                
       \n\n&nbsp\;\n  ***Please Note: This class will be facilitated on
  the Zoom platform.\nInternet access and access to a computer/laptop/table
 t/smartphone is required to attend.\nWe kindly request that participants a
 void using distracting virtual backgrounds. For privacy\, we recommend usi
 ng the blur feature instead.\nYou cannot take this class in a vehicle.\nTh
 e Zoom link to attend this class will be provided via email.\nPlease follo
 w the link below for a brief tutorial on how to sign up for a free Zoom ac
 count.\nZoom User Guide
ATTACH;FMTTYPE=image/jpeg:https://fakce.org/wp-content/uploads/2019/01/Rew
 arding-good-behavior-2.png
CATEGORIES:Classes,Online Classes,Specialty Classes
LOCATION:Zoom\, 0000 Zoom \, San Diego\, United States
X-APPLE-STRUCTURED-LOCATION;VALUE=URI;X-ADDRESS=0000 Zoom \, San Diego\, Un
 ited States;X-APPLE-RADIUS=100;X-TITLE=Zoom:geo:0,0
END:VEVENT
BEGIN:VTIMEZONE
TZID:America/Los_Angeles
X-LIC-LOCATION:America/Los_Angeles
BEGIN:STANDARD
DTSTART:20251102T010000
TZOFFSETFROM:-0700
TZOFFSETTO:-0800
TZNAME:PST
END:STANDARD
END:VTIMEZONE
END:VCALENDAR