BEGIN:VCALENDAR
VERSION:2.0
PRODID:-//wp-events-plugin.com//7.2.3.1//EN
TZID:America/Los_Angeles
X-WR-TIMEZONE:America/Los_Angeles
BEGIN:VEVENT
UID:13920@fakce.org
DTSTART;TZID=America/Los_Angeles:20220207T180000
DTEND;TZID=America/Los_Angeles:20220207T210000
DTSTAMP:20211210T215359Z
URL:https://fakce.org/events/online-kinship-adoption-2022-02-07/
SUMMARY:Online | Kinship Adoption
DESCRIPTION:This class is for relatives adopting only\nDesigned for those a
 dopting a relative’s child. This class explores life changes\, changing 
 roles\, and relationships with birth parents who are relatives. Resources 
 in the community for kinship caregivers will be examined.\nRegistration wi
 ll close on Monday\, February 07\, 2022 at 7am \n***Please Note: This sup
 port group will be facilitated on the online platform called Zoom. Interne
 t access and access to a computer/laptop/tablet/smartphone is required to 
 attend.\nThe link to attend this class will be provided on the day of clas
 s.\nPlease follow the link below for a brief tutorial on how to sign up fo
 r a free Zoom account.\nZoom User Guide
ATTACH;FMTTYPE=image/jpeg:https://fakce.org/wp-content/uploads/2016/08/kid
 s-·-kids-·-kids.jpg
CATEGORIES:Adoption Classes,Classes,Online Classes
LOCATION:Zoom\, 0000 Zoom \, San Diego\, United States
X-APPLE-STRUCTURED-LOCATION;VALUE=URI;X-ADDRESS=0000 Zoom \, San Diego\, Un
 ited States;X-APPLE-RADIUS=100;X-TITLE=Zoom:geo:0,0
END:VEVENT
BEGIN:VTIMEZONE
TZID:America/Los_Angeles
X-LIC-LOCATION:America/Los_Angeles
BEGIN:STANDARD
DTSTART:20211107T010000
TZOFFSETFROM:-0700
TZOFFSETTO:-0800
TZNAME:PST
END:STANDARD
END:VTIMEZONE
END:VCALENDAR