BEGIN:VCALENDAR
VERSION:2.0
PRODID:-//wp-events-plugin.com//7.2.3.1//EN
TZID:America/Los_Angeles
X-WR-TIMEZONE:America/Los_Angeles
BEGIN:VEVENT
UID:15800@fakce.org
DTSTART;TZID=America/Los_Angeles:20230804T180000
DTEND;TZID=America/Los_Angeles:20230804T210000
DTSTAMP:20230612T211331Z
URL:https://fakce.org/events/online-it-takes-courage-to-be-kind-using-posi
 tive-discipline-to-teach-children-kindness-and-altruism-2023-08-04/
SUMMARY:Online | It Takes Courage to Be Kind: Using Positive Discipline to 
 Teach Children Kindness and Altruism
DESCRIPTION:Sometimes children use challenging behaviors to communicate th
 eir need for love and attention. This may cause conﬂict with their peers
  and make it diﬃcult for them to make friends. This class will use the p
 rinciples of Positive Discipline to explore ways that Resource Parents can
  teach children life skills through encouraging self respect\, self discip
 line\, problem solving and the ability to think of others well being.\nReg
 istration will close on Thursday\, August 3\, 2021 at 12pm\n***Please Note
 : This class will be facilitated on the online platform called Zoom. Inter
 net access and access to a computer/laptop/tablet/smartphone is required t
 o attend.\nThe link to attend this class will be provided at registration.
 \nPlease follow the link below for a brief tutorial on how to sign up for 
 a free Zoom account.\nZoom User Guide
ATTACH;FMTTYPE=image/jpeg:https://fakce.org/wp-content/uploads/2016/08/gir
 ls-914823_1920.jpg
CATEGORIES:Classes,Online Classes,Specialty Classes
LOCATION:Zoom\, 0000 Zoom \, San Diego\, United States
X-APPLE-STRUCTURED-LOCATION;VALUE=URI;X-ADDRESS=0000 Zoom \, San Diego\, Un
 ited States;X-APPLE-RADIUS=100;X-TITLE=Zoom:geo:0,0
END:VEVENT
BEGIN:VTIMEZONE
TZID:America/Los_Angeles
X-LIC-LOCATION:America/Los_Angeles
BEGIN:DAYLIGHT
DTSTART:20230312T030000
TZOFFSETFROM:-0800
TZOFFSETTO:-0700
TZNAME:PDT
END:DAYLIGHT
END:VTIMEZONE
END:VCALENDAR