BEGIN:VCALENDAR
VERSION:2.0
PRODID:-//wp-events-plugin.com//7.2.3.1//EN
TZID:America/Los_Angeles
X-WR-TIMEZONE:America/Los_Angeles
BEGIN:VEVENT
UID:17319@fakce.org
DTSTART;TZID=America/Los_Angeles:20241213T180000
DTEND;TZID=America/Los_Angeles:20241213T210000
DTSTAMP:20241211T221828Z
URL:https://fakce.org/events/online-instant-family-2024-12-13/
SUMMARY:Online | Instant Family
DESCRIPTION:Instructor: Nicole Espinosa\, LCSW\n\nA special film screening 
 of Instant Family\, followed by a discussion about adoption from foster ca
 re. Participants will identify ways they can prepare for an instant family
 \, understand the grief and loss regarding the birth parents\, the importa
 nce of keeping siblings together and identifying supports to help during t
 he journey of becoming an instant family.\nRegistration will close on Frid
 ay\, December 13\, 2024 at 7am \n***Please Note: This class will be facil
 itated on the online platform called Zoom. Internet access and access to a
  computer/laptop/tablet/smartphone is required to attend.\nThe link to att
 end this class will be provided at registration.\nPlease follow the link b
 elow for a brief tutorial on how to sign up for a free Zoom account.\nZoom
  User Guide
ATTACH;FMTTYPE=image/jpeg:https://fakce.org/wp-content/uploads/2020/07/Ins
 tant-Family.jpg
CATEGORIES:Classes,Online Classes,Specialty Classes
LOCATION:Zoom\, 0000 Zoom \, San Diego\, United States
X-APPLE-STRUCTURED-LOCATION;VALUE=URI;X-ADDRESS=0000 Zoom \, San Diego\, Un
 ited States;X-APPLE-RADIUS=100;X-TITLE=Zoom:geo:0,0
END:VEVENT
BEGIN:VTIMEZONE
TZID:America/Los_Angeles
X-LIC-LOCATION:America/Los_Angeles
BEGIN:STANDARD
DTSTART:20241103T010000
TZOFFSETFROM:-0700
TZOFFSETTO:-0800
TZNAME:PST
END:STANDARD
END:VTIMEZONE
END:VCALENDAR