BEGIN:VCALENDAR
VERSION:2.0
PRODID:-//wp-events-plugin.com//7.2.3.1//EN
TZID:America/Los_Angeles
X-WR-TIMEZONE:America/Los_Angeles
BEGIN:VEVENT
UID:14261@fakce.org
DTSTART;TZID=America/Los_Angeles:20220514T090000
DTEND;TZID=America/Los_Angeles:20220514T153000
DTSTAMP:20220330T205845Z
URL:https://fakce.org/events/online-in-their-own-voice-2022-05-14/
SUMMARY:Online | In Their Own Voice
DESCRIPTION:The voices of adoptees are instrumental in understanding what a
 doptive children experience throughout their lives. In this class\, partic
 ipants will explore the twenty complex emotional issues adoptive parents n
 eed to understand to nurture your child and begin\ntheir healing journey. 
 You will hear stories and lessons from adoptive families and ways they dis
 covered to uncover the needs of their children at the same time taking car
 e of themselves so they could be the best healing &amp\; therapeutic paren
 t for their child. Don’t miss this one!\nRegistration will close on Frid
 ay\, May 13\, 2022\, at 12 pm\n***Please Note: This class will be facilita
 ted on the online platform called Zoom. Internet access and access to a co
 mputer/laptop/tablet/smartphone is required to attend.\nThe link to attend
  this class will be provided at registration.\nPlease follow the link belo
 w for a brief tutorial on how to sign up for a free Zoom account.\nZoom Us
 er Guide
ATTACH;FMTTYPE=image/jpeg:https://fakce.org/wp-content/uploads/2016/08/o-C
 LASSROOM-facebook.jpg
CATEGORIES:Classes,Online Classes,Specialty Classes
LOCATION:Zoom\, 0000 Zoom \, San Diego\, United States
X-APPLE-STRUCTURED-LOCATION;VALUE=URI;X-ADDRESS=0000 Zoom \, San Diego\, Un
 ited States;X-APPLE-RADIUS=100;X-TITLE=Zoom:geo:0,0
END:VEVENT
BEGIN:VTIMEZONE
TZID:America/Los_Angeles
X-LIC-LOCATION:America/Los_Angeles
BEGIN:DAYLIGHT
DTSTART:20220313T030000
TZOFFSETFROM:-0800
TZOFFSETTO:-0700
TZNAME:PDT
END:DAYLIGHT
END:VTIMEZONE
END:VCALENDAR