BEGIN:VCALENDAR
VERSION:2.0
PRODID:-//wp-events-plugin.com//7.2.3.1//EN
TZID:America/Los_Angeles
X-WR-TIMEZONE:America/Los_Angeles
BEGIN:VEVENT
UID:18457@fakce.org
DTSTART;TZID=America/Los_Angeles:20260224T150000
DTEND;TZID=America/Los_Angeles:20260224T180000
DTSTAMP:20260220T124854Z
URL:https://fakce.org/events/online-im-lovable-and-i-like-myself-twenty-ti
 ps-for-building-self-esteem-2026-02-24/
SUMMARY:Online | I'm Lovable\, and I Like Myself: Twenty Tips for Building 
 Self-Esteem
DESCRIPTION:Guest Instructor: Jody Johnston-Pawel\, LSW\, CFLE\nJody Johns
 ton Pawel is a Licensed Social Worker in the State of Ohio and a Certified
  Family Life Educator. She is the author of the award-winning The Parent
 ’s Toolshop® book and Founder/CEO of the Relationship Toolshop® Inter
 national Training Institute. LLC.\n\nTHE CORE “UNIVERSAL BLUEPRINT® FOR
  PARENTING SUCCESS SYSTEM” SERIES\nFoundation-Building Toolbox\nDescript
 ion: Through interactive games\, discover the subtle diﬀerence between p
 raise and encouragement\, so you can skillfully self‐esteem without acci
 dentally creating “praisejunkies\,” egotistical self‐centered childr
 en\, or accidentally discourage children\, which lowers their self‐estee
 m! You’ll practice using and mastering at least twenty practical languag
 e and action skills for building self‐esteem\, fostering self‐motivati
 on\, increasing children’s conﬁdence and resistance to peer pressure\,
  and can even prevent and diﬀuse sibling rivalry and competition.\n***Pl
 ease Note: This class will be facilitated on the online platform called Zo
 om. Internet access and access to a computer/laptop/tablet/smartphone is r
 equired to attend.\nThe link to attend this class will be provided at regi
 stration.\nPlease follow the link below for a brief tutorial on how to sig
 n up for a free Zoom account.\nZoom User Guide
ATTACH;FMTTYPE=image/jpeg:https://fakce.org/wp-content/uploads/2016/08/o-K
 IDS-READING-facebook.jpg
CATEGORIES:Classes,Online Classes,Specialty Classes
LOCATION:Zoom\, 0000 Zoom \, San Diego\, United States
X-APPLE-STRUCTURED-LOCATION;VALUE=URI;X-ADDRESS=0000 Zoom \, San Diego\, Un
 ited States;X-APPLE-RADIUS=100;X-TITLE=Zoom:geo:0,0
END:VEVENT
BEGIN:VTIMEZONE
TZID:America/Los_Angeles
X-LIC-LOCATION:America/Los_Angeles
BEGIN:STANDARD
DTSTART:20251102T010000
TZOFFSETFROM:-0700
TZOFFSETTO:-0800
TZNAME:PST
END:STANDARD
END:VTIMEZONE
END:VCALENDAR