BEGIN:VCALENDAR
VERSION:2.0
PRODID:-//wp-events-plugin.com//7.2.3.1//EN
TZID:America/Los_Angeles
X-WR-TIMEZONE:America/Los_Angeles
BEGIN:VEVENT
UID:14115@fakce.org
DTSTART;TZID=America/Los_Angeles:20220222T150000
DTEND;TZID=America/Los_Angeles:20220222T180000
DTSTAMP:20211214T210557Z
URL:https://fakce.org/events/online-im-lovable-and-i-like-myself-20-tips-f
 or-building-childrens-self%e2%80%90esteem-2022-02-22/
SUMMARY:Online | "I’m Lovable and I Like Myself!": 20 Tips for Building C
 hildren’s Self‐Esteem
DESCRIPTION:\n\nGuest Instructor: Jody Johnston-Pawel\, LSW\, CFLE\n\nThrou
 gh interactive games\, discover the subtle diﬀerence between praise and
  encouragement\, so you can skillfully self‐esteem without accidentally 
 creating “praise junkies\,” egotistical self‐centered children\, or 
 accidentally discourage children\, which lowers their self‐esteem! You
 ’ll practice using and mastering at least twenty practical language and 
 action skills for building self‐esteem\, fostering self‐motivation\, i
 ncreasing children’s conﬁdence and resistance to peer pressure\, and c
 an even prevent and diﬀuse sibling rivalry and competition.\nRegistrat
 ion will close on Tuesday\, February 22\, 2022 at 7am\n***Please Note: Thi
 s class will be facilitated on the online platform called Zoom. Internet a
 ccess and access to a computer/laptop/tablet/smartphone is required to att
 end.\nThe link to attend this class will be provided at registration.\nPle
 ase follow the link below for a brief tutorial on how to sign up for a fre
 e Zoom account.\nZoom User Guide
ATTACH;FMTTYPE=image/jpeg:https://fakce.org/wp-content/uploads/2021/05/Fly
 ing-Boy.jpg
CATEGORIES:Classes,Online Classes,Specialty Classes
LOCATION:Zoom\, 0000 Zoom \, San Diego\, United States
X-APPLE-STRUCTURED-LOCATION;VALUE=URI;X-ADDRESS=0000 Zoom \, San Diego\, Un
 ited States;X-APPLE-RADIUS=100;X-TITLE=Zoom:geo:0,0
END:VEVENT
BEGIN:VTIMEZONE
TZID:America/Los_Angeles
X-LIC-LOCATION:America/Los_Angeles
BEGIN:STANDARD
DTSTART:20211107T010000
TZOFFSETFROM:-0700
TZOFFSETTO:-0800
TZNAME:PST
END:STANDARD
END:VTIMEZONE
END:VCALENDAR