BEGIN:VCALENDAR
VERSION:2.0
PRODID:-//wp-events-plugin.com//7.2.3.1//EN
TZID:America/Los_Angeles
X-WR-TIMEZONE:America/Los_Angeles
BEGIN:VEVENT
UID:17910@fakce.org
DTSTART;TZID=America/Los_Angeles:20250909T180000
DTEND;TZID=America/Los_Angeles:20250909T200000
DTSTAMP:20250818T160742Z
URL:https://fakce.org/events/online-how-to-handle-separation-anxiety-2025-
 09-09/
SUMMARY:Online | How to Handle Separation Anxiety
DESCRIPTION:Instructors: Representatives from Scripps Mercy Hospital’s We
 ll‐Being Center\nDescription: Separation anxiety is common among childre
 n who’ve experienced loss or trauma. This session covers how to recogniz
 e signs of anxiety\, create a sense of safety\, and support children throu
 gh transitions\, reuniﬁcation\, or changes in routine. Objective: Provid
 e foster parents with tools to reduce anxiety and promote emotional stabil
 ity during separation or transition periods.\n \n***Please Note: This cla
 ss will be facilitated on the Zoom platform.\nInternet access and access t
 o a computer/laptop/tablet/smartphone is required to attend.\nWe kindly re
 quest that participants avoid using distracting virtual backgrounds. For p
 rivacy\, we recommend using the blur feature instead.\nYou cannot take thi
 s class in a vehicle.\nThe Zoom link to attend this class will be provided
  via email.\nPlease follow the link below for a brief tutorial on how to s
 ign up for a free Zoom account.\nZoom User Guide
ATTACH;FMTTYPE=image/jpeg:https://fakce.org/wp-content/uploads/2019/01/tee
 n-and-parent.jpg
CATEGORIES:Classes,Online Classes,Specialty Classes
LOCATION:Zoom\, 0000 Zoom \, San Diego\, United States
X-APPLE-STRUCTURED-LOCATION;VALUE=URI;X-ADDRESS=0000 Zoom \, San Diego\, Un
 ited States;X-APPLE-RADIUS=100;X-TITLE=Zoom:geo:0,0
END:VEVENT
BEGIN:VTIMEZONE
TZID:America/Los_Angeles
X-LIC-LOCATION:America/Los_Angeles
BEGIN:DAYLIGHT
DTSTART:20250309T030000
TZOFFSETFROM:-0800
TZOFFSETTO:-0700
TZNAME:PDT
END:DAYLIGHT
END:VTIMEZONE
END:VCALENDAR