BEGIN:VCALENDAR
VERSION:2.0
PRODID:-//wp-events-plugin.com//7.2.3.1//EN
TZID:America/Los_Angeles
X-WR-TIMEZONE:America/Los_Angeles
BEGIN:VEVENT
UID:14185@fakce.org
DTSTART;TZID=America/Los_Angeles:20220325T180000
DTEND;TZID=America/Los_Angeles:20220325T200000
DTSTAMP:20220209T194917Z
URL:https://fakce.org/events/online-honoring-your-childs-story-through-lif
 ebooks-2022-03-25/
SUMMARY:Online | Honoring Your Child's Story Through Lifebooks
DESCRIPTION:Lifebooks are an integral part of a child's life and are create
 d to assist a child in telling their story. It is a tool used in both fos
 ter care and adoption as It helps the child create a visual conﬁrmation 
 of their existence. It is an opportunity for communication that helps to f
 acilitate trust\, connection\, and attachment. Lifebooks as a way for the 
 caregiver and child to review the child’s life experiences and document 
 the child’s life story. Creating a Lifebook is much more than a scrapboo
 k\; it is a vehicle for the child to understand his or her life experienc
 es and be able to heal from those experiences.\nRegistration will close on
  Friday\, March 25\, 2022\, at 7 am\n***Please Note: This class will be fa
 cilitated on the online platform called Zoom. Internet access and access t
 o a computer/laptop/tablet/smartphone is required to attend.\nThe link to 
 attend this class will be provided at registration.\nPlease follow the lin
 k below for a brief tutorial on how to sign up for a free Zoom account.\nZ
 oom User Guide
ATTACH;FMTTYPE=image/jpeg:https://fakce.org/wp-content/uploads/2016/08/o-C
 LASSROOM-facebook.jpg
CATEGORIES:Classes,Online Classes,Specialty Classes
LOCATION:Zoom\, 0000 Zoom \, San Diego\, United States
X-APPLE-STRUCTURED-LOCATION;VALUE=URI;X-ADDRESS=0000 Zoom \, San Diego\, Un
 ited States;X-APPLE-RADIUS=100;X-TITLE=Zoom:geo:0,0
END:VEVENT
BEGIN:VTIMEZONE
TZID:America/Los_Angeles
X-LIC-LOCATION:America/Los_Angeles
BEGIN:DAYLIGHT
DTSTART:20220313T030000
TZOFFSETFROM:-0800
TZOFFSETTO:-0700
TZNAME:PDT
END:DAYLIGHT
END:VTIMEZONE
END:VCALENDAR