BEGIN:VCALENDAR
VERSION:2.0
PRODID:-//wp-events-plugin.com//7.2.3.1//EN
TZID:America/Los_Angeles
X-WR-TIMEZONE:America/Los_Angeles
BEGIN:VEVENT
UID:14161@fakce.org
DTSTART;TZID=America/Los_Angeles:20220312T090000
DTEND;TZID=America/Los_Angeles:20220312T153000
DTSTAMP:20220207T204954Z
URL:https://fakce.org/events/online-helping-your-anxious-child-2022-03-12/
SUMMARY:Online | Helping Your Anxious Child
DESCRIPTION:Childhood should be a happy and carefree time. Children who hav
 e experienced trauma are more likely to struggle with anxiety as their wor
 ld has often been unpredictable and stressful. The pandemic has also incre
 ased all of our anxieties with not knowing what is going to happen from da
 y to day. In this class\, you will learn easy\, fun\, and eﬀective tools
  for teaching children to outsmart their worries and take charge of their 
 fears and how to help you as caregivers manage your anxiety so you can be 
 the best healing parent for your child.\nRegistration will close on Friday
 \, March 11\, 2022\, at 12 pm\n***Please Note: This class will be facilita
 ted on the online platform called Zoom. Internet access and access to a co
 mputer/laptop/tablet/smartphone is required to attend.\nThe link to attend
  this class will be provided at registration.\nPlease follow the link belo
 w for a brief tutorial on how to sign up for a free Zoom account.\nZoom Us
 er Guide
ATTACH;FMTTYPE=image/jpeg:https://fakce.org/wp-content/uploads/2016/08/o-C
 LASSROOM-facebook.jpg
CATEGORIES:Classes,Online Classes,Specialty Classes
LOCATION:Zoom\, 0000 Zoom \, San Diego\, United States
X-APPLE-STRUCTURED-LOCATION;VALUE=URI;X-ADDRESS=0000 Zoom \, San Diego\, Un
 ited States;X-APPLE-RADIUS=100;X-TITLE=Zoom:geo:0,0
END:VEVENT
BEGIN:VTIMEZONE
TZID:America/Los_Angeles
X-LIC-LOCATION:America/Los_Angeles
BEGIN:STANDARD
DTSTART:20211107T010000
TZOFFSETFROM:-0700
TZOFFSETTO:-0800
TZNAME:PST
END:STANDARD
END:VTIMEZONE
END:VCALENDAR