BEGIN:VCALENDAR
VERSION:2.0
PRODID:-//wp-events-plugin.com//7.2.3.1//EN
TZID:America/Los_Angeles
X-WR-TIMEZONE:America/Los_Angeles
BEGIN:VEVENT
UID:17543@fakce.org
DTSTART;TZID=America/Los_Angeles:20250211T180000
DTEND;TZID=America/Los_Angeles:20250211T200000
DTSTAMP:20250205T165317Z
URL:https://fakce.org/events/online-health-screenings-for-foster-children-
 importance-of-routine-assessments-2025-02-11/
SUMMARY:Online | Health Screenings for Foster Children: Importance of Routi
 ne Assessments
DESCRIPTION:Instructors: Representatives from Scripps Mercy Hospital’s We
 ll‐Being Center\nThis engaging and educational session is tailored for f
 oster parents\, equipping them with the knowledge and tools needed to prio
 ritize the health of children in their care. Foster children often encount
 er unique health challenges stemming from trauma\, neglect\, or disrupted 
 family dynamics. Routine health screenings serve as critical touchpoints t
 o monitor and support their physical\, mental\, and emotional well‐being
 .\nRegistration will close on Tuesday\, January 11\, 2025 at 7 am \n***Pl
 ease Note: This class will be facilitated on the Zoom platform. \nInterne
 t access and access to a computer/laptop/tablet/smartphone is required to 
 attend.\nVirtual Backgrounds are not permitted in our Zoom meetings\; howe
 ver\, blurred backgrounds are acceptable.\nYou cannot take this class in a
  vehicle.\nThe Zoom link to attend this class will be provided via email.\
 nPlease follow the link below for a brief tutorial on how to sign up for a
  free Zoom account.\nZoom User Guide
ATTACH;FMTTYPE=image/jpeg:https://fakce.org/wp-content/uploads/2021/05/Fam
 ily-at-amusement-park.jpg
CATEGORIES:Classes,Online Classes,Specialty Classes
LOCATION:Zoom\, 0000 Zoom \, San Diego\, United States
X-APPLE-STRUCTURED-LOCATION;VALUE=URI;X-ADDRESS=0000 Zoom \, San Diego\, Un
 ited States;X-APPLE-RADIUS=100;X-TITLE=Zoom:geo:0,0
END:VEVENT
BEGIN:VTIMEZONE
TZID:America/Los_Angeles
X-LIC-LOCATION:America/Los_Angeles
BEGIN:STANDARD
DTSTART:20241103T010000
TZOFFSETFROM:-0700
TZOFFSETTO:-0800
TZNAME:PST
END:STANDARD
END:VTIMEZONE
END:VCALENDAR