BEGIN:VCALENDAR
VERSION:2.0
PRODID:-//wp-events-plugin.com//7.2.3.1//EN
TZID:America/Los_Angeles
X-WR-TIMEZONE:America/Los_Angeles
BEGIN:VEVENT
UID:15674@fakce.org
DTSTART;TZID=America/Los_Angeles:20230509T180000
DTEND;TZID=America/Los_Angeles:20230509T210000
DTSTAMP:20230405T202053Z
URL:https://fakce.org/events/online-hair-love-caring-for-multi%e2%80%90eth
 nic-hair-2023-05-09/
SUMMARY:Online | Hair Love: Caring for Multi‐Ethnic Hair
DESCRIPTION:This workshop is designed to provide practical information on 
 hair and skincare for resource parents caring for children of Black/Africa
 n American and multi‐cultural descent. This course will oﬀer skills\, 
 techniques and answer questions to assist caregivers in meeting the hair a
 nd skincare needs of their children. Participants will understand and prac
 tice the importance of hair care and image for children in care\, cultural
  implications and applying and understanding the diﬀerent products that 
 are available\nRegistration will close on Tuesday\, May 9\, 2023\, at 7 am
  \n***Please Note: This class will be facilitated on the online platform
  called Zoom. Internet access and access to a computer/laptop/tablet/smart
 phone is required to attend.\nThe link to attend this class will be provid
 ed at registration.\nPlease follow the link below for a brief tutorial on 
 how to sign up for a free Zoom account.\nZoom User Guide
ATTACH;FMTTYPE=image/jpeg:https://fakce.org/wp-content/uploads/2021/05/His
 panic-Family.jpg
CATEGORIES:Classes,Online Classes,Specialty Classes
LOCATION:Zoom\, 0000 Zoom \, San Diego\, United States
X-APPLE-STRUCTURED-LOCATION;VALUE=URI;X-ADDRESS=0000 Zoom \, San Diego\, Un
 ited States;X-APPLE-RADIUS=100;X-TITLE=Zoom:geo:0,0
END:VEVENT
BEGIN:VTIMEZONE
TZID:America/Los_Angeles
X-LIC-LOCATION:America/Los_Angeles
BEGIN:DAYLIGHT
DTSTART:20230312T030000
TZOFFSETFROM:-0800
TZOFFSETTO:-0700
TZNAME:PDT
END:DAYLIGHT
END:VTIMEZONE
END:VCALENDAR