BEGIN:VCALENDAR
VERSION:2.0
PRODID:-//wp-events-plugin.com//7.2.3.1//EN
TZID:America/Los_Angeles
X-WR-TIMEZONE:America/Los_Angeles
BEGIN:VEVENT
UID:14596@fakce.org
DTSTART;TZID=America/Los_Angeles:20220716T090000
DTEND;TZID=America/Los_Angeles:20220716T153000
DTSTAMP:20220608T180819Z
URL:https://fakce.org/events/online-grief-and-loss-for-children-in-foster-
 care-2022-07-16/
SUMMARY:Online | Grief and Loss for Children in Foster Care
DESCRIPTION:This workshop will help participants explore the eﬀects of se
 paration and loss on children in kinship and foster care. Participants wil
 l learn about the losses and the impact children may experience when they 
 are separated from their parents and families due to abuse and neglect and
  will explore strategies that can help children to overcome the impact of 
 the separation.\nRegistration will close on Thursday\, July 14\, 2022\, at
  12 pm \n***Please Note: This class will be facilitated on the online pla
 tform called Zoom. Internet access and access to a computer/laptop/tablet/
 smartphone is required to attend.\nThe link to attend this class will be p
 rovided at registration.\nPlease follow the link below for a brief tutoria
 l on how to sign up for a free Zoom account.\nZoom User Guide
ATTACH;FMTTYPE=image/jpeg:https://fakce.org/wp-content/uploads/2016/08/run
 away.jpg
CATEGORIES:Classes,Online Classes,Specialty Classes
LOCATION:Zoom\, 0000 Zoom \, San Diego\, United States
X-APPLE-STRUCTURED-LOCATION;VALUE=URI;X-ADDRESS=0000 Zoom \, San Diego\, Un
 ited States;X-APPLE-RADIUS=100;X-TITLE=Zoom:geo:0,0
END:VEVENT
BEGIN:VTIMEZONE
TZID:America/Los_Angeles
X-LIC-LOCATION:America/Los_Angeles
BEGIN:DAYLIGHT
DTSTART:20220313T030000
TZOFFSETFROM:-0800
TZOFFSETTO:-0700
TZNAME:PDT
END:DAYLIGHT
END:VTIMEZONE
END:VCALENDAR