BEGIN:VCALENDAR
VERSION:2.0
PRODID:-//wp-events-plugin.com//7.2.3.1//EN
TZID:America/Los_Angeles
X-WR-TIMEZONE:America/Los_Angeles
BEGIN:VEVENT
UID:15588@fakce.org
DTSTART;TZID=America/Los_Angeles:20230313T150000
DTEND;TZID=America/Los_Angeles:20230313T180000
DTSTAMP:20230210T161512Z
URL:https://fakce.org/events/online-getting-back-talk-lets-talk-clear-comm
 unication-toolset-2023-03-13/
SUMMARY:Online | Getting Back Talk? Let's Talk: Clear Communication Toolset
DESCRIPTION:Description: Understand why today’s kids often act and talk t
 he way they do and learn how to prevent children from using back talk\, ru
 deness and smart alecky remarks with you and other adults. Get the Top 10 
 Communication Tools you can use in this situation and others!\n\n&nbsp\;\n
 Registration will close on Monday\, March 13\, 2023\, at 7am\nThe Foster-A
 doptive Parents Toolshop® training series is a comprehensive 30+ hour evi
 dence-based\, trauma informed parenting curriculum for foster and kinship 
 caregivers and adoptive parents. The entire series will be oﬀered over t
 he next 8 months\, September 2022\, June 2023 and will be taught by the cu
 rriculum’s author Jody Johnston Pawel\, LSW\, CFLE\, CTSS.\nWhile each i
 ndividual workshop is valuable as a stand-alone workshop\, when combined t
 hey create a parenting system called The Universal Blueprint® for Parenti
 ng Success. You can use this universal system to prevent common parenting 
 challenges and plan personalized responses and solutions to those that ari
 se\, based on the child\, circumstance\, and family involved. The series o
 ﬀers an overview of the system and its tools\, plus the in-depth worksho
 ps in order\, so they build on each other.\nDon’t worry if you can’t t
 ake them all\, you can take one\, some or as many as you wish! The Series 
 will be oﬀered on the 2nd and 4th Mondays from September 2022 to June 20
 23 from 3-6pm. Please note there are some 2- part trainings. You must atte
 nd both sessions to get credit.\nTo see a flyer with a complete list of Jo
 dy Johnston-Pawel classes\, click here \nGuest Instructor: Jody Johnston-
 Pawel\, LSW\, CFLE\nJody Johnston Pawel is a Licensed Social Worker in the
  State of Ohio and a Certified Family Life Educator. She is the author of 
 the award-winning The Parent’s Toolshop® book and Founder/CEO of the Re
 lationship Toolshop® International Training Institute. LLC.\n\n***Please 
 Note: This class will be facilitated on the online platform called Zoom. I
 nternet access and access to a computer/laptop/tablet/smartphone is requir
 ed to attend.\nThe link to attend this class will be provided at registrat
 ion.\nPlease follow the link below for a brief tutorial on how to sign up 
 for a free Zoom account.\nZoom User Guide
ATTACH;FMTTYPE=image/jpeg:https://fakce.org/wp-content/uploads/2016/05/mot
 her-talking-to-daughter.jpg
CATEGORIES:Classes,Online Classes,Specialty Classes
LOCATION:Zoom\, 0000 Zoom \, San Diego\, United States
X-APPLE-STRUCTURED-LOCATION;VALUE=URI;X-ADDRESS=0000 Zoom \, San Diego\, Un
 ited States;X-APPLE-RADIUS=100;X-TITLE=Zoom:geo:0,0
END:VEVENT
BEGIN:VTIMEZONE
TZID:America/Los_Angeles
X-LIC-LOCATION:America/Los_Angeles
BEGIN:DAYLIGHT
DTSTART:20230312T030000
TZOFFSETFROM:-0800
TZOFFSETTO:-0700
TZNAME:PDT
END:DAYLIGHT
END:VTIMEZONE
END:VCALENDAR