BEGIN:VCALENDAR
VERSION:2.0
PRODID:-//wp-events-plugin.com//7.2.3.1//EN
TZID:America/Los_Angeles
X-WR-TIMEZONE:America/Los_Angeles
BEGIN:VEVENT
UID:17784@fakce.org
DTSTART;TZID=America/Los_Angeles:20250618T090000
DTEND;TZID=America/Los_Angeles:20250618T120000
DTSTAMP:20250428T213212Z
URL:https://fakce.org/events/online-getting-back-talk-lets-talk-2025-06-18
 /
SUMMARY:Online | Getting Back Talk? Let’s Talk
DESCRIPTION:Description: Have you ever listened the way your child talks to
  you and think\, “I would have never talked to my parents this way!”? 
 Understand why today’s kids often act and talk the way they do and learn
  how to prevent children from using back talk\, rudeness and smart‐aleck
 y remarks with you and other adults. Recognize when “sass” is intentio
 nal or\nun‐intentional... and how to respond assertively and eﬀectivel
 y to each type of problem. Get the Top 10 Communication Tools you can use 
 in this situation and others!\nThe Foster-Adoptive Parents Toolshop® trai
 ning series is a comprehensive 30+ hour evidence-based\, trauma informed p
 arenting curriculum for foster and kinship caregivers and adoptive parents
 . The entire series will be oﬀered over the next 8 months\, September 20
 22\, June 2023 and will be taught by the curriculum’s author Jody Johnst
 on Pawel\, LSW\, CFLE\, CTSS.\nWhile each individual workshop is valuable 
 as a stand-alone workshop\, when combined they create a parenting system c
 alled The Universal Blueprint® for Parenting Success. You can use this un
 iversal system to prevent common parenting challenges and plan personalize
 d responses and solutions to those that arise\, based on the child\, circu
 mstance\, and family involved. The series oﬀers an overview of the syste
 m and its tools\, plus the in-depth workshops in order\, so they build on 
 each other.\nDon’t worry if you can’t take them all\, you can take one
 \, some or as many as you wish! The Series will be oﬀered on the 2nd and
  4th Mondays from September 2022 to June 2023 from 3-6pm. Please note ther
 e are some 2- part trainings. You must attend both sessions to get credit.
 \nGuest Instructor: Jody Johnston-Pawel\, LSW\, CFLE\nJody Johnston Pawel 
 is a Licensed Social Worker in the State of Ohio and a Certified Family Li
 fe Educator. She is the author of the award-winning The Parent’s Toolsho
 p® book and Founder/CEO of the Relationship Toolshop® International Trai
 ning Institute. LLC.\n\n&nbsp\;\n***Please Note: This class will be facili
 tated on the Zoom platform.\nInternet access and access to a computer/lapt
 op/tablet/smartphone is required to attend.\nWe kindly request that partic
 ipants avoid using distracting virtual backgrounds. For privacy\, we recom
 mend using the blur feature instead.\nYou cannot take this class in a vehi
 cle.\nThe Zoom link to attend this class will be provided via email.\nPlea
 se follow the link below for a brief tutorial on how to sign up for a free
  Zoom account.\nZoom User Guide
ATTACH;FMTTYPE=image/jpeg:https://fakce.org/wp-content/uploads/2016/08/Hap
 py-group-of-kids-1.jpg
CATEGORIES:Classes,Online Classes,Specialty Classes
LOCATION:Zoom\, 0000 Zoom \, San Diego\, United States
X-APPLE-STRUCTURED-LOCATION;VALUE=URI;X-ADDRESS=0000 Zoom \, San Diego\, Un
 ited States;X-APPLE-RADIUS=100;X-TITLE=Zoom:geo:0,0
END:VEVENT
BEGIN:VTIMEZONE
TZID:America/Los_Angeles
X-LIC-LOCATION:America/Los_Angeles
BEGIN:DAYLIGHT
DTSTART:20250309T030000
TZOFFSETFROM:-0800
TZOFFSETTO:-0700
TZNAME:PDT
END:DAYLIGHT
END:VTIMEZONE
END:VCALENDAR