BEGIN:VCALENDAR
VERSION:2.0
PRODID:-//wp-events-plugin.com//7.2.3.1//EN
TZID:America/Los_Angeles
X-WR-TIMEZONE:America/Los_Angeles
BEGIN:VEVENT
UID:18651@fakce.org
DTSTART;TZID=America/Los_Angeles:20260429T093000
DTEND;TZID=America/Los_Angeles:20260429T123000
DTSTAMP:20260122T014716Z
URL:https://fakce.org/events/online-from-trauma-to-triumph-a-resource-pare
 nts-journey-through-the-7-core-issues-with-allison-davis-maxon-part-5-2026
 -04-29/
SUMMARY:Online | From Trauma to Triumph: A Resource Parents Journey Through
  The 7 Core Issues with Allison Davis Maxon - Part 5
DESCRIPTION:Instructor: Allison Davis Maxon\, LMFT\nAbout: Allison Davis Ma
 xon is a nationally recognized expert in Complex Developmental Trauma and 
 children’s mental health specializing in Attachment and Permanency/Adopt
 ion. She is a mother\, a trauma therapist and an author/lecturer. Join All
 ison for a journey into the emotional demands and challenges parents exper
 ience as they attach and parent children and teens with core losses and de
 velopmental trauma. The series will use The Seven Core Issues Workbook for
  Parents of Traumatized Children and Teens: A Guide to Help You Explore Fe
 elings and Overcome Emotional Challenges in Your Family.\n\n&nbsp\;\n\n&nb
 sp\;\n\n&nbsp\;\nWe Cannot Heal What We Cannot Acknowledge!\nParents bring
  their own childhood histories of attachment and emotional adversity into 
 the intimate attachment dance between themselves and their child. JOIN US 
 for this powerful series where parents will gain insight\, self-awareness\
 , and tools to deepen their self-reflective process and strengthen emotion
 al regulation. Your child’s healing is deeply connected to your own heal
 ing. Guided by Allison\, embark on a journey into parental identity and di
 scover strategies to heal your inner narrative and enhance the attachment 
 relationship between you and your child or teen.\n\nSeries of  7 Wednesda
 y's \n\n 	Session 6: Intimacy | Wednesday\, May 6\, 2026\n 	Session 7: Mas
 tery &amp\; Control | Wednesday\, May 20\, 2026\n\n**Important Registratio
 n Notice**When you register for a class that is part of a series\, you wil
 l be automatically registered for all future sessions in that series.\nHow
 ever\, to receive email or text reminders for each session\, you must regi
 ster separately for each individual workshop.\n&nbsp\;\nIf you plan on joi
 ning us for Part 6\, please click here to register. \n&nbsp\;\n\n&nbsp\;\
 n***Please Note: This class will be facilitated on the Zoom platform.\nInt
 ernet access and access to a computer/laptop/tablet/smartphone is required
  to attend.\nWe kindly request that participants avoid using distracting v
 irtual backgrounds. For privacy\, we recommend using the blur feature inst
 ead.\nYou cannot take this class in a vehicle.\nThe Zoom link to attend th
 is class will be provided via email.\nPlease follow the link below for a b
 rief tutorial on how to sign up for a free Zoom account.\nZoom User Guide
ATTACH;FMTTYPE=image/jpeg:https://fakce.org/wp-content/uploads/2024/11/ima
 ge-dec-2022.jpeg
CATEGORIES:Classes,Online Classes,Specialty Classes
LOCATION:Zoom\, 0000 Zoom \, San Diego\, United States
X-APPLE-STRUCTURED-LOCATION;VALUE=URI;X-ADDRESS=0000 Zoom \, San Diego\, Un
 ited States;X-APPLE-RADIUS=100;X-TITLE=Zoom:geo:0,0
END:VEVENT
BEGIN:VTIMEZONE
TZID:America/Los_Angeles
X-LIC-LOCATION:America/Los_Angeles
BEGIN:DAYLIGHT
DTSTART:20260308T030000
TZOFFSETFROM:-0800
TZOFFSETTO:-0700
TZNAME:PDT
END:DAYLIGHT
END:VTIMEZONE
END:VCALENDAR