BEGIN:VCALENDAR
VERSION:2.0
PRODID:-//wp-events-plugin.com//7.2.3.1//EN
TZID:America/Los_Angeles
X-WR-TIMEZONE:America/Los_Angeles
BEGIN:VEVENT
UID:18222@fakce.org
DTSTART;TZID=America/Los_Angeles:20260117T100000
DTEND;TZID=America/Los_Angeles:20260117T120000
DTSTAMP:20260109T203905Z
URL:https://fakce.org/events/online-foster-to-forever-support-group-the-im
 pact-of-fostering-on-resource-families-2026-01-17/
SUMMARY:Online | Foster to Forever Support Group: The Impact of Fostering o
 n Resource Families
DESCRIPTION:Meets every 3rd Saturday of each month\n**No Meeting in July\, 
 August\, November &amp\; December **\nAn opportunity to meet with other fo
 ster/adoptive families to share experiences\, discuss the foster/adoption 
 process\, and support each other while awaiting a foster/adoptive placemen
 t.\nGroup Leader: Rhonda Oliver\n\nTopic: Families need to be aware that 
 caring for traumatised children can have a great impact on your family. We
  will discuss these impacts on children in the home and how best to suppor
 t them.\n***Please Note: This class will be facilitated on the Zoom platfo
 rm.\n Internet access and access to a computer/laptop/tablet/smartphone is
  required to attend.\nFor our support group meetings\, all participants mu
 st have their cameras on\, regardless of whether they are seeking credit 
 or not. This requirement is designed to encourage full engagement and conn
 ection among participants\, fostering a more supportive atmosphere within 
 our community. Please note that individuals unable to participate with the
 ir cameras on will not be able to join the support group sessions.\nWe kin
 dly request that participants avoid using distracting virtual backgrounds.
  For privacy\, we recommend using the blur feature instead.\nYou cannot ta
 ke this class in a vehicle.\nThe link to attend this class will be provide
 d via email.\nPlease follow the link below for a brief tutorial on how to 
 sign up for a free Zoom account.\nZoom User Guide
ATTACH;FMTTYPE=image/jpeg:https://fakce.org/wp-content/uploads/2023/04/ist
 ockphoto-1313553003-612x612-1.jpg
CATEGORIES:Classes,Online Classes,Support Groups,Workshops
LOCATION:Zoom\, 0000 Zoom \, San Diego\, United States
X-APPLE-STRUCTURED-LOCATION;VALUE=URI;X-ADDRESS=0000 Zoom \, San Diego\, Un
 ited States;X-APPLE-RADIUS=100;X-TITLE=Zoom:geo:0,0
END:VEVENT
BEGIN:VTIMEZONE
TZID:America/Los_Angeles
X-LIC-LOCATION:America/Los_Angeles
BEGIN:STANDARD
DTSTART:20251102T010000
TZOFFSETFROM:-0700
TZOFFSETTO:-0800
TZNAME:PST
END:STANDARD
END:VTIMEZONE
END:VCALENDAR