BEGIN:VCALENDAR
VERSION:2.0
PRODID:-//wp-events-plugin.com//7.2.3.1//EN
TZID:America/Los_Angeles
X-WR-TIMEZONE:America/Los_Angeles
BEGIN:VEVENT
UID:18225@fakce.org
DTSTART;TZID=America/Los_Angeles:20260418T100000
DTEND;TZID=America/Los_Angeles:20260418T120000
DTSTAMP:20260411T130857Z
URL:https://fakce.org/events/online-foster-to-forever-support-group-parent
 ing-sexualized-children-2026-04-18/
SUMMARY:Online | Foster to Forever Support Group: Parenting Sexualized Chil
 dren
DESCRIPTION:Meets every 3rd Saturday of each month\n**No Meeting in July\, 
 August\, November &amp\; December **\nAn opportunity to meet with other fo
 ster/adoptive families to share experiences\, discuss the foster/adoption 
 process\, and support each other while awaiting a foster/adoptive placemen
 t.\nGroup Leader: Rhonda Oliver\n\nTopic:  As a parent or caregiver of a
  child or youth who has a known or suspected history of being sexually ab
 used\, you may feel confused about the impact of the abuse and uncertain a
 bout how you can help. However\, it is important to understand that childr
 en and youth who have been abused need to feel safe and loved in nurturing
  homes. As a parent or caregiver\, you can play a central role in your chi
 ld’s healing process\, as well as in “building resilience\,” which s
 trengthens your child’s ability to adapt to or cope with adversity. This
  class will discuss normal sexual development\, the special needs of sexua
 lized children\, recommended treatment for sexually abused children\, and
  accessing resources that can help in your child’s healing process.\n***
 Please Note: This class will be facilitated on the Zoom platform.\n Intern
 et access and access to a computer/laptop/tablet/smartphone is required to
  attend.\nFor our support group meetings\, all participants must have thei
 r cameras on\, regardless of whether they are seeking credit or not. This
  requirement is designed to encourage full engagement and connection among
  participants\, fostering a more supportive atmosphere within our communit
 y. Please note that individuals unable to participate with their cameras o
 n will not be able to join the support group sessions.\nWe kindly request 
 that participants avoid using distracting virtual backgrounds. For privacy
 \, we recommend using the blur feature instead.\nYou cannot take this clas
 s in a vehicle.\nThe link to attend this class will be provided via email.
 \nPlease follow the link below for a brief tutorial on how to sign up for 
 a free Zoom account.\nZoom User Guide
ATTACH;FMTTYPE=image/jpeg:https://fakce.org/wp-content/uploads/2016/12/Fos
 ter-to-forever.png
CATEGORIES:Classes,Online Classes,Support Groups,Workshops
LOCATION:Zoom\, 0000 Zoom \, San Diego\, United States
X-APPLE-STRUCTURED-LOCATION;VALUE=URI;X-ADDRESS=0000 Zoom \, San Diego\, Un
 ited States;X-APPLE-RADIUS=100;X-TITLE=Zoom:geo:0,0
END:VEVENT
BEGIN:VTIMEZONE
TZID:America/Los_Angeles
X-LIC-LOCATION:America/Los_Angeles
BEGIN:DAYLIGHT
DTSTART:20260308T030000
TZOFFSETFROM:-0800
TZOFFSETTO:-0700
TZNAME:PDT
END:DAYLIGHT
END:VTIMEZONE
END:VCALENDAR