BEGIN:VCALENDAR
VERSION:2.0
PRODID:-//wp-events-plugin.com//7.2.3.1//EN
TZID:America/Los_Angeles
X-WR-TIMEZONE:America/Los_Angeles
BEGIN:VEVENT
UID:13765@fakce.org
DTSTART;TZID=America/Los_Angeles:20220131T180000
DTEND;TZID=America/Los_Angeles:20220131T210000
DTSTAMP:20211207T204825Z
URL:https://fakce.org/events/online-first-aid-cpr-2022-01-31/
SUMMARY:Online | First Aid / CPR
DESCRIPTION:These classes include First Aid for infants\, children\, and ad
 ults and CPR. They are co-sponsored by the Foster Care Education Program a
 nd the local foster parent association. They can be used to meet the licen
 sing requirement but not the county mandate for state 8-hour ongoing train
 ing mandate. Call the phone number listed for the location you wish to att
 end.\n\nFirst Aid and CPR classes are only for Resource Parent Applicants
 \, Resource Approved Families\, Licensed County Foster/Adoptive Parents\, 
 and Respite Caregivers who will be serving Resource Parents directly throu
 gh the County’s Child Welfare Services\, Foster and Adoptive Resource Fa
 mily Services.\nRegistration will close on Monday\, January 31\, 2022 at 7
 am \n***Please Note: This First Aid/CPR class will be facilitated on the 
 online platform called Zoom. Internet access and access to a computer/lapt
 op/tablet/smartphone is required to attend.\nPlease be ready and logged in
  at the start of class\, no late comers will be admitted\nThe link to atte
 nd this class will be provided on the day of class.\nPlease follow the lin
 k below for a brief tutorial on how to sign up for a free Zoom account.\nZ
 oom User Guide
ATTACH;FMTTYPE=image/jpeg:https://fakce.org/wp-content/uploads/2015/03/cpr
 .jpg
CATEGORIES:First Aid / CPR,Online Classes
LOCATION:Zoom\, 0000 Zoom \, San Diego\, United States
X-APPLE-STRUCTURED-LOCATION;VALUE=URI;X-ADDRESS=0000 Zoom \, San Diego\, Un
 ited States;X-APPLE-RADIUS=100;X-TITLE=Zoom:geo:0,0
END:VEVENT
BEGIN:VTIMEZONE
TZID:America/Los_Angeles
X-LIC-LOCATION:America/Los_Angeles
BEGIN:STANDARD
DTSTART:20211107T010000
TZOFFSETFROM:-0700
TZOFFSETTO:-0800
TZNAME:PST
END:STANDARD
END:VTIMEZONE
END:VCALENDAR