BEGIN:VCALENDAR
VERSION:2.0
PRODID:-//wp-events-plugin.com//7.2.3.1//EN
TZID:America/Los_Angeles
X-WR-TIMEZONE:America/Los_Angeles
BEGIN:VEVENT
UID:15927@fakce.org
DTSTART;TZID=America/Los_Angeles:20231019T180000
DTEND;TZID=America/Los_Angeles:20231019T210000
DTSTAMP:20230816T175350Z
URL:https://fakce.org/events/online-fear-how-it-keeps-us-stuck-2023-10-19/
SUMMARY:Online | Fear: How It Keeps Us Stuck
DESCRIPTION:Fear is a human emotion that is triggered by a perceived threat
 . It is a basic survival mechanism that signals our bodies to respond to d
 anger with a fight or flight response. As such\, it is an essential part o
 f keeping us safe. However\, when people live in constant fear\, whether f
 rom physical dangers in their environment or threats they perceive\, they 
 can experience negative impacts in all areas of their lives and even becom
 e incapacitated. Learn how to face your fears and improve your life.\nRegi
 stration will close on Thursday\, October 19\, 2023 at 7 am \n***Please N
 ote: This class will be facilitated on the online platform called Zoom. In
 ternet access and access to a computer/laptop/tablet/smartphone is require
 d to attend.\nThe link to attend this class will be provided at registrati
 on.\nPlease follow the link below for a brief tutorial on how to sign up f
 or a free Zoom account.\nZoom User Guide
ATTACH;FMTTYPE=image/jpeg:https://fakce.org/wp-content/uploads/2021/05/Gir
 l-With-Spyglass.jpg
CATEGORIES:Classes,Online Classes,Specialty Classes
LOCATION:Zoom\, 0000 Zoom \, San Diego\, United States
X-APPLE-STRUCTURED-LOCATION;VALUE=URI;X-ADDRESS=0000 Zoom \, San Diego\, Un
 ited States;X-APPLE-RADIUS=100;X-TITLE=Zoom:geo:0,0
END:VEVENT
BEGIN:VTIMEZONE
TZID:America/Los_Angeles
X-LIC-LOCATION:America/Los_Angeles
BEGIN:DAYLIGHT
DTSTART:20230312T030000
TZOFFSETFROM:-0800
TZOFFSETTO:-0700
TZNAME:PDT
END:DAYLIGHT
END:VTIMEZONE
END:VCALENDAR