BEGIN:VCALENDAR
VERSION:2.0
PRODID:-//wp-events-plugin.com//7.2.3.1//EN
TZID:America/Los_Angeles
X-WR-TIMEZONE:America/Los_Angeles
BEGIN:VEVENT
UID:14589@fakce.org
DTSTART;TZID=America/Los_Angeles:20220707T180000
DTEND;TZID=America/Los_Angeles:20220707T210000
DTSTAMP:20220608T161529Z
URL:https://fakce.org/events/online-fear-%e2%80%90-how-it-keeps-us-stuck-2
 022-07-07/
SUMMARY:Online | FEAR ‐ How It Keeps Us Stuck
DESCRIPTION:Fear is a human emotion that is triggered by a perceived threat
 . It is a basic survival mechanism that signals our bodies to respond to d
 anger with a ﬁght or ﬂight response. As such\, it is an essential part
  of keeping us safe. However\, when people live in constant fear\, whether
  from physical dangers in their environment or threats they perceive\, the
 y can experience negative impacts in all areas of their lives and even bec
 ome incapacitated. Learn how to face your fears and improve your life.\nRe
 gistration will close on Thursday\, July 7\, 2022\, at 7 am \n***Please N
 ote: This class will be facilitated on the online platform called Zoom. In
 ternet access and access to a computer/laptop/tablet/smartphone is require
 d to attend.\nThe link to attend this class will be provided at registrati
 on.\nPlease follow the link below for a brief tutorial on how to sign up f
 or a free Zoom account.\nZoom User Guide
ATTACH;FMTTYPE=image/jpeg:https://fakce.org/wp-content/uploads/2016/08/n-T
 ANTRUM-628x314.jpg
CATEGORIES:Classes,Online Classes,Specialty Classes
LOCATION:Zoom\, 0000 Zoom \, San Diego\, United States
X-APPLE-STRUCTURED-LOCATION;VALUE=URI;X-ADDRESS=0000 Zoom \, San Diego\, Un
 ited States;X-APPLE-RADIUS=100;X-TITLE=Zoom:geo:0,0
END:VEVENT
BEGIN:VTIMEZONE
TZID:America/Los_Angeles
X-LIC-LOCATION:America/Los_Angeles
BEGIN:DAYLIGHT
DTSTART:20220313T030000
TZOFFSETFROM:-0800
TZOFFSETTO:-0700
TZNAME:PDT
END:DAYLIGHT
END:VTIMEZONE
END:VCALENDAR