BEGIN:VCALENDAR
VERSION:2.0
PRODID:-//wp-events-plugin.com//7.2.3.1//EN
TZID:America/Los_Angeles
X-WR-TIMEZONE:America/Los_Angeles
BEGIN:VEVENT
UID:18004@fakce.org
DTSTART;TZID=America/Los_Angeles:20251113T093000
DTEND;TZID=America/Los_Angeles:20251113T123000
DTSTAMP:20251105T210634Z
URL:https://fakce.org/events/online-exploring-the-adoption-constellation-2
 025-11-13/
SUMMARY:Online | Exploring the Adoption Constellation
DESCRIPTION:Instructor: Ron Huxley\, LMFT\n\nRon Huxley is a Licensed Marri
 age and Family Therapist with over 30 years of experience specializing in 
 adoption and permanency issues. He served as Director of a post-adoption m
 ental health clinic and is a nationally recognized speaker on adoption top
 ics. Ron integrates evidence-based practices with specialized knowledge of
  adoption-specific concerns\, helping families build resilience and health
 y relationships. He continues to serve the adoption community through Fami
 lyHealer.tv providing resources and tools for families and professionals.\
 n\nDescription: The adoption constellation includes all individuals whose 
 lives are forever connected through adoption - adoptees\, adoptive parents
 \, birth parents\, siblings\, and extended family. This constellation crea
 tes unique relationship dynamics that require specialized understanding. P
 articipants will discover why traditional approaches often miss the mark w
 ith constellation members and learn adoption-informed strategies that hono
 r the complexity of these lifelong connections. The session provides pract
 ical tools for navigating ongoing relationships\, grief experiences\, and 
 identity questions that emerge throughout the adoption journey.\n\n\n\nWan
 t a preview of what’s ahead?\nRon Huxley\, LMFT\, brings over 30 years o
 f experience supporting adoptive and foster families.\nIn this brief inter
 view\, he introduces the key themes you’ll explore in class—how every 
 member of the adoption constellation is connected\, and how honoring those
  relationships helps children and families thrive.\nClick Here to Watch!\n
 \n\n***Please Note: This class will be facilitated on the Zoom platform.\n
 Internet access and access to a computer/laptop/tablet/smartphone is requi
 red to attend.\nWe kindly request that participants avoid using distractin
 g virtual backgrounds. For privacy\, we recommend using the blur feature i
 nstead.\nYou cannot take this class in a vehicle.\nThe Zoom link to attend
  this class will be provided via email.\nPlease follow the link below for 
 a brief tutorial on how to sign up for a free Zoom account.\nZoom User Gui
 de
ATTACH;FMTTYPE=image/jpeg:https://fakce.org/wp-content/uploads/2019/01/Rew
 arding-good-behavior-2.png
CATEGORIES:Classes,Online Classes,Specialty Classes
LOCATION:Zoom\, 0000 Zoom \, San Diego\, United States
X-APPLE-STRUCTURED-LOCATION;VALUE=URI;X-ADDRESS=0000 Zoom \, San Diego\, Un
 ited States;X-APPLE-RADIUS=100;X-TITLE=Zoom:geo:0,0
END:VEVENT
BEGIN:VTIMEZONE
TZID:America/Los_Angeles
X-LIC-LOCATION:America/Los_Angeles
BEGIN:STANDARD
DTSTART:20251102T010000
TZOFFSETFROM:-0700
TZOFFSETTO:-0800
TZNAME:PST
END:STANDARD
END:VTIMEZONE
END:VCALENDAR