BEGIN:VCALENDAR
VERSION:2.0
PRODID:-//wp-events-plugin.com//7.2.3.1//EN
TZID:America/Los_Angeles
X-WR-TIMEZONE:America/Los_Angeles
BEGIN:VEVENT
UID:17947@fakce.org
DTSTART;TZID=America/Los_Angeles:20251009T093000
DTEND;TZID=America/Los_Angeles:20251009T123000
DTSTAMP:20250819T103055Z
URL:https://fakce.org/events/online-exploring-childhood-trauma-and-the-dev
 eloping-brain-2025-10-09/
SUMMARY:Online | Exploring Childhood Trauma and the Developing Brain
DESCRIPTION:Instructor: Dr. Megan Zappitelli\nDescription: This workshop wi
 ll provide Resource Families with an overview of the typical brain organiz
 ation and childhood development to help better understand the impact of tr
 aumatic experiences on the development of the brain including the psycholo
 gical\, developmental\, as well as the neurological impacts of early adver
 se experiences. Resource Parents will be provided with tools for assessing
  and understanding traumatized\, neglected and abused children and learn a
 bout developmentally appropriate and trauma‐informed treatment options f
 or children with these experiences. Lastly\, families will learn about the
  healing power of relationships and community.\n&nbsp\;\n***Please Note: T
 his class will be facilitated on the Zoom platform.\nInternet access and a
 ccess to a computer/laptop/tablet/smartphone is required to attend.\nWe ki
 ndly request that participants avoid using distracting virtual backgrounds
 . For privacy\, we recommend using the blur feature instead.\nYou cannot t
 ake this class in a vehicle.\nThe Zoom link to attend this class will be p
 rovided via email.\nPlease follow the link below for a brief tutorial on h
 ow to sign up for a free Zoom account.\nZoom User Guide
ATTACH;FMTTYPE=image/jpeg:https://fakce.org/wp-content/uploads/2021/05/Gir
 l-With-Spyglass.jpg
CATEGORIES:Classes,Online Classes,Specialty Classes
LOCATION:Zoom\, 0000 Zoom \, San Diego\, United States
X-APPLE-STRUCTURED-LOCATION;VALUE=URI;X-ADDRESS=0000 Zoom \, San Diego\, Un
 ited States;X-APPLE-RADIUS=100;X-TITLE=Zoom:geo:0,0
END:VEVENT
BEGIN:VTIMEZONE
TZID:America/Los_Angeles
X-LIC-LOCATION:America/Los_Angeles
BEGIN:DAYLIGHT
DTSTART:20250309T030000
TZOFFSETFROM:-0800
TZOFFSETTO:-0700
TZNAME:PDT
END:DAYLIGHT
END:VTIMEZONE
END:VCALENDAR