BEGIN:VCALENDAR
VERSION:2.0
PRODID:-//wp-events-plugin.com//7.2.3.1//EN
TZID:America/Los_Angeles
X-WR-TIMEZONE:America/Los_Angeles
BEGIN:VEVENT
UID:15908@fakce.org
DTSTART;TZID=America/Los_Angeles:20231007T090000
DTEND;TZID=America/Los_Angeles:20231007T153000
DTSTAMP:20230814T195449Z
URL:https://fakce.org/events/online-epigenetics-2023-10-07/
SUMMARY:Online | Epigenetics
DESCRIPTION:Epigenetics” is an emerging area of scientiﬁc research that
  shows how environmental inﬂuences—children’s experiences—aﬀect
  the expression of their genes. During development\, the DNA that makes up
  our genes accumulates chemical marks that determine how much or little of
  the genes is expressed. This collection of chemical marks is known as the
  “epigenome.” The diﬀerent experiences children have rearrange those
  chemical marks. This means the old idea that genes are “set in stone”
  has been disproven. Nature vs. Nurture is no longer a debate. It's nearly
  always both! Come learn about this exciting area of research.\nRegistra
 tion will close on Friday\, October 6\, 2023\, at 12 pm\n***Please Note: T
 his class will be facilitated on the online platform called Zoom. Internet
  access and access to a computer/laptop/tablet/smartphone is required to a
 ttend.\nThe link to attend this class will be provided at registration.\nP
 lease follow the link below for a brief tutorial on how to sign up for a f
 ree Zoom account.\nZoom User Guide
ATTACH;FMTTYPE=image/jpeg:https://fakce.org/wp-content/uploads/2016/08/o-C
 LASSROOM-facebook.jpg
CATEGORIES:Classes,Online Classes,Specialty Classes
LOCATION:Zoom\, 0000 Zoom \, San Diego\, United States
X-APPLE-STRUCTURED-LOCATION;VALUE=URI;X-ADDRESS=0000 Zoom \, San Diego\, Un
 ited States;X-APPLE-RADIUS=100;X-TITLE=Zoom:geo:0,0
END:VEVENT
BEGIN:VTIMEZONE
TZID:America/Los_Angeles
X-LIC-LOCATION:America/Los_Angeles
BEGIN:DAYLIGHT
DTSTART:20230312T030000
TZOFFSETFROM:-0800
TZOFFSETTO:-0700
TZNAME:PDT
END:DAYLIGHT
END:VTIMEZONE
END:VCALENDAR