BEGIN:VCALENDAR
VERSION:2.0
PRODID:-//wp-events-plugin.com//7.2.3.1//EN
TZID:America/Los_Angeles
X-WR-TIMEZONE:America/Los_Angeles
BEGIN:VEVENT
UID:14169@fakce.org
DTSTART;TZID=America/Los_Angeles:20220317T180000
DTEND;TZID=America/Los_Angeles:20220317T210000
DTSTAMP:20220207T223657Z
URL:https://fakce.org/events/online-epigenetics-%e2%80%90-what-is-it-and-w
 hat-impact-does-it-have-2022-03-17/
SUMMARY:Online | Epigenetics ‐ What Is It and What Impact Does It Have?
DESCRIPTION:"Epigenetics” is an emerging area of scientiﬁc research tha
 t shows how environmental inﬂuences—children’s experiences—aﬀect
  the expression of their genes. During development\, the DNA that makes up
  our genes accumulates chemical marks that determine how much or little of
  the genes is expressed. This collection of chemical marks is known as the
  “epigenome.” The diﬀerent experiences children have rearrange those
  chemical marks. This means the old idea that genes are “set in stone”
  has been disproven. Nature vs. Nurture is no longer a debate. It’s near
 ly always both! Come learn about this exciting area of research.\nRegistra
 tion will close on Thursday\, March 17\, 2022\, at 7 am\n***Please Note: T
 his class will be facilitated on the online platform called Zoom. Internet
  access and access to a computer/laptop/tablet/smartphone is required to a
 ttend.\nThe link to attend this class will be provided at registration.\nP
 lease follow the link below for a brief tutorial on how to sign up for a f
 ree Zoom account.\nZoom User Guide
ATTACH;FMTTYPE=image/jpeg:https://fakce.org/wp-content/uploads/2016/08/o-C
 LASSROOM-facebook.jpg
CATEGORIES:Classes,Online Classes,Specialty Classes
LOCATION:Zoom\, 0000 Zoom \, San Diego\, United States
X-APPLE-STRUCTURED-LOCATION;VALUE=URI;X-ADDRESS=0000 Zoom \, San Diego\, Un
 ited States;X-APPLE-RADIUS=100;X-TITLE=Zoom:geo:0,0
END:VEVENT
BEGIN:VTIMEZONE
TZID:America/Los_Angeles
X-LIC-LOCATION:America/Los_Angeles
BEGIN:DAYLIGHT
DTSTART:20220313T030000
TZOFFSETFROM:-0800
TZOFFSETTO:-0700
TZNAME:PDT
END:DAYLIGHT
END:VTIMEZONE
END:VCALENDAR