BEGIN:VCALENDAR
VERSION:2.0
PRODID:-//wp-events-plugin.com//7.2.3.1//EN
TZID:America/Los_Angeles
X-WR-TIMEZONE:America/Los_Angeles
BEGIN:VEVENT
UID:14452@fakce.org
DTSTART;TZID=America/Los_Angeles:20220510T180000
DTEND;TZID=America/Los_Angeles:20220510T210000
DTSTAMP:20220504T224400Z
URL:https://fakce.org/events/online-enhancing-caregiver-resiliency-part-2-
 2022-05-10/
SUMMARY:Online | Enhancing Caregiver Resiliency Part 2
DESCRIPTION:This is offered in 2 parts. Must complete full 6 hours to recei
 ve a certificate of completion\nEarly child care educators are at risk of 
 experiencing the toxic stress that comes with working with children and fa
 milies impacted by trauma. This 2 Part  training assist providers in fost
 ering a greater understanding of trauma-informed care and gaining the know
 ledge necessary to combat burnout\, vicarious trauma\, and compassion fati
 gue. This training will show you how easy and effective a few well-designe
 d self-care tools can be in helping you manage your emotions\, maintain yo
 ur clarity of mind\, boost your energy\, and keep you feeling both product
 ive and fulfilled. 6 hours\n\nPart 1: Tuesday\, May 3\, 2022 | 6pm - 9pm\n
 \nPart 2: Tuesday\, May 10\, 2022 | 6pm - 9pm (Follow this link to registe
 r: https://fakce.org/events/online-enhancing-caregiver-resiliency-2022-05-
 03/)\n\n&nbsp\;\nRegistration will close on Tuesday\, May 10\, 2022\, at 7
  am \n***Please Note: This support group will be facilitated on the onlin
 e platform called Zoom. Internet access and access to a computer/laptop/ta
 blet/smartphone is required to attend.\nThe link to attend this class will
  be provided on the day of class.\nPlease follow the link below for a brie
 f tutorial on how to sign up for a free Zoom account.\nZoom User Guide
ATTACH;FMTTYPE=image/jpeg:https://fakce.org/wp-content/uploads/2021/05/Asi
 an-Family.jpg
CATEGORIES:Classes,Online Classes,Specialty Classes
LOCATION:Zoom\, 0000 Zoom \, San Diego\, United States
X-APPLE-STRUCTURED-LOCATION;VALUE=URI;X-ADDRESS=0000 Zoom \, San Diego\, Un
 ited States;X-APPLE-RADIUS=100;X-TITLE=Zoom:geo:0,0
END:VEVENT
BEGIN:VTIMEZONE
TZID:America/Los_Angeles
X-LIC-LOCATION:America/Los_Angeles
BEGIN:DAYLIGHT
DTSTART:20220313T030000
TZOFFSETFROM:-0800
TZOFFSETTO:-0700
TZNAME:PDT
END:DAYLIGHT
END:VTIMEZONE
END:VCALENDAR