BEGIN:VCALENDAR
VERSION:2.0
PRODID:-//wp-events-plugin.com//7.2.3.1//EN
TZID:America/Los_Angeles
X-WR-TIMEZONE:America/Los_Angeles
BEGIN:VEVENT
UID:14121@fakce.org
DTSTART;TZID=America/Los_Angeles:20220228T180000
DTEND;TZID=America/Los_Angeles:20220228T210000
DTSTAMP:20211215T183432Z
URL:https://fakce.org/events/online-encouragement-vs-praise-2022-02-28/
SUMMARY:Online | Encouragement vs. Praise
DESCRIPTION:The difference between encouragement and praise is that praise 
 teaches dependency on external feedback\, while encouragement teaches inte
 rnal validation. Based on Conscious Discipline by Dr. Becky Bailey\, this\
 nworkshop will help Resource Parents to raise children to not be dependent
  on praise from others in developing their sense of self. Instead\, this w
 orkshop will help Resource Parents to focus on encouragement and the long-
 term effects encouragement has\, such as more independent\, motivated\, an
 d self‐evaluative children.\nRegistration will close on Monday\, Februar
 y 28\, 2022\, at 7 am\n***Please Note: This class will be facilitated on t
 he online platform called Zoom. Internet access and access to a computer/l
 aptop/tablet/smartphone is required to attend.\nThe link to attend this cl
 ass will be provided at registration.\nPlease follow the link below for a 
 brief tutorial on how to sign up for a free Zoom account.\nZoom User Guide
ATTACH;FMTTYPE=image/jpeg:https://fakce.org/wp-content/uploads/2016/03/bro
 ther-977170_1280.jpg
CATEGORIES:Classes,Online Classes,Specialty Classes
LOCATION:Zoom\, 0000 Zoom \, San Diego\, United States
X-APPLE-STRUCTURED-LOCATION;VALUE=URI;X-ADDRESS=0000 Zoom \, San Diego\, Un
 ited States;X-APPLE-RADIUS=100;X-TITLE=Zoom:geo:0,0
END:VEVENT
BEGIN:VTIMEZONE
TZID:America/Los_Angeles
X-LIC-LOCATION:America/Los_Angeles
BEGIN:STANDARD
DTSTART:20211107T010000
TZOFFSETFROM:-0700
TZOFFSETTO:-0800
TZNAME:PST
END:STANDARD
END:VTIMEZONE
END:VCALENDAR