BEGIN:VCALENDAR
VERSION:2.0
PRODID:-//wp-events-plugin.com//7.2.3.1//EN
TZID:America/Los_Angeles
X-WR-TIMEZONE:America/Los_Angeles
BEGIN:VEVENT
UID:14225@fakce.org
DTSTART;TZID=America/Los_Angeles:20220422T180000
DTEND;TZID=America/Los_Angeles:20220429T210000
DTSTAMP:20220211T181848Z
URL:https://fakce.org/events/online-emotional-intelligence-2022-04-22/
SUMMARY:Online |  Emotional Intelligence
DESCRIPTION:A series of 2 workshops \nEmotional intelligence is the capaci
 ty to be aware of\, control\, and express one’s emotions\, and to handl
 e interpersonal relationships judiciously and empathetically. It’s the b
 asis for good communication skills\, social skills\, and empathy. Unlike a
 cademic intelligence\, emotional intelligence can be learned. Children\, r
 egardless of their age\, are incredibly intelligent. The best way to teach
  emotional intelligence is to model it\, but you can also coach them throu
 gh the inevitable moments when they have emotions. As a Resource Parent\, 
 you have the opportunity to help at‐risk children develop this very valu
 able skill.\n\nPart 1: Friday\, April 22\, 2022\n\nPart 2: Friday\, April 
 29\, 2022\nRegistration will close on Friday\, April 22\, 2022 at 7 am\n(r
 egistering for part 1 will automatically register you in part 2) \n&nbsp\
 ;\n***Please Note: This class will be facilitated on the online platform c
 alled Zoom. Internet access and access to a computer/laptop/tablet/smartph
 one is required to attend.\nThe link to attend this class will be provided
  at registration.\nPlease follow the link below for a brief tutorial on ho
 w to sign up for a free Zoom account.\nZoom User Guide
ATTACH;FMTTYPE=image/jpeg:https://fakce.org/wp-content/uploads/2016/08/o-C
 LASSROOM-facebook.jpg
CATEGORIES:Classes,Online Classes,Specialty Classes
LOCATION:Zoom\, 0000 Zoom \, San Diego\, United States
X-APPLE-STRUCTURED-LOCATION;VALUE=URI;X-ADDRESS=0000 Zoom \, San Diego\, Un
 ited States;X-APPLE-RADIUS=100;X-TITLE=Zoom:geo:0,0
END:VEVENT
BEGIN:VTIMEZONE
TZID:America/Los_Angeles
X-LIC-LOCATION:America/Los_Angeles
BEGIN:DAYLIGHT
DTSTART:20220313T030000
TZOFFSETFROM:-0800
TZOFFSETTO:-0700
TZNAME:PDT
END:DAYLIGHT
END:VTIMEZONE
END:VCALENDAR