BEGIN:VCALENDAR
VERSION:2.0
PRODID:-//wp-events-plugin.com//7.2.3.1//EN
TZID:America/Los_Angeles
X-WR-TIMEZONE:America/Los_Angeles
BEGIN:VEVENT
UID:18105@fakce.org
DTSTART;TZID=America/Los_Angeles:20260217T180000
DTEND;TZID=America/Los_Angeles:20260217T210000
DTSTAMP:20251204T203139Z
URL:https://fakce.org/events/online-embracing-your-childs-heritage-part-1-
 of-2-2026-02-17/
SUMMARY:Online | Embracing Your Child’s Heritage Part 1 of 2
DESCRIPTION:If you are taking the class as a required adoption class\, you 
 must take both parts\, and together they count as only one of your two ado
 ption classes\nYou will receive a certificate for each of the two parts\, 
 each giving you 3 hours of education credit (6 hours if you take both part
 s 1 and 2 of the series)\nYou must register for each part separately\n(Par
 t 2 of this class is scheduled for Thursday\, February 19\, 2026- Click he
 re to register )\nDates: Tuesday\, February 17\, 2026\n\nDescription: Esp
 ecially relevant for those who plan to adopt cross-culturally\, this class
  will broaden your awareness of race as an ongoing issue of an individual
 ’s development and as part of an adoption.\n***Please Note: This class w
 ill be facilitated on the Zoom platform.\nInternet access and access to a 
 computer/laptop/tablet/smartphone is required to attend.\nWe kindly reques
 t that participants avoid using distracting virtual backgrounds. For priva
 cy\, we recommend using the blur feature instead.\nYou cannot take this cl
 ass in a vehicle.\nThe Zoom link to attend this class will be provided via
  email.\nPlease follow the link below for a brief tutorial on how to sign 
 up for a free Zoom account.\nZoom User Guide
ATTACH;FMTTYPE=image/jpeg:https://fakce.org/wp-content/uploads/2015/03/CHI
 0023E.jpg
CATEGORIES:Adoption Classes,Classes,Online Classes
LOCATION:Zoom\, 0000 Zoom \, San Diego\, United States
X-APPLE-STRUCTURED-LOCATION;VALUE=URI;X-ADDRESS=0000 Zoom \, San Diego\, Un
 ited States;X-APPLE-RADIUS=100;X-TITLE=Zoom:geo:0,0
END:VEVENT
BEGIN:VTIMEZONE
TZID:America/Los_Angeles
X-LIC-LOCATION:America/Los_Angeles
BEGIN:STANDARD
DTSTART:20251102T010000
TZOFFSETFROM:-0700
TZOFFSETTO:-0800
TZNAME:PST
END:STANDARD
END:VTIMEZONE
END:VCALENDAR