BEGIN:VCALENDAR
VERSION:2.0
PRODID:-//wp-events-plugin.com//7.2.3.1//EN
TZID:America/Los_Angeles
X-WR-TIMEZONE:America/Los_Angeles
BEGIN:VEVENT
UID:14170@fakce.org
DTSTART;TZID=America/Los_Angeles:20220318T180000
DTEND;TZID=America/Los_Angeles:20220318T210000
DTSTAMP:20220208T203727Z
URL:https://fakce.org/events/online-dynamics-of-substance-abuse-and-the-im
 pact-on-the-family-2022-03-18/
SUMMARY:Online | Dynamics of Substance Abuse and The Impact on the Family
DESCRIPTION:Parent’s behavior with a substance abuse disorder can vary an
 d can have a multifaceted impact on children. Parental substance abuse ca
 n also impact prenatal\, early childhood and adolescent development. Parti
 cipants will learn about the dynamics of drug and alcohol addictions\, tre
 atment modalities and expectations from the court and Child Welfare Servic
 es for parents who struggle with substance abuse. This class will look at 
 the impact of substance abuse on the entire family when children are broug
 ht into care.\nRegistration will close on Friday\, March 18\, 2022\, at 7 
 am\n***Please Note: This class will be facilitated on the online platform 
 called Zoom. Internet access and access to a computer/laptop/tablet/smartp
 hone is required to attend.\nThe link to attend this class will be provide
 d at registration.\nPlease follow the link below for a brief tutorial on h
 ow to sign up for a free Zoom account.\nZoom User Guide
ATTACH;FMTTYPE=image/jpeg:https://fakce.org/wp-content/uploads/2016/08/o-C
 LASSROOM-facebook.jpg
CATEGORIES:Classes,Online Classes,Specialty Classes
LOCATION:Zoom\, 0000 Zoom \, San Diego\, United States
X-APPLE-STRUCTURED-LOCATION;VALUE=URI;X-ADDRESS=0000 Zoom \, San Diego\, Un
 ited States;X-APPLE-RADIUS=100;X-TITLE=Zoom:geo:0,0
END:VEVENT
BEGIN:VTIMEZONE
TZID:America/Los_Angeles
X-LIC-LOCATION:America/Los_Angeles
BEGIN:DAYLIGHT
DTSTART:20220313T030000
TZOFFSETFROM:-0800
TZOFFSETTO:-0700
TZNAME:PDT
END:DAYLIGHT
END:VTIMEZONE
END:VCALENDAR