BEGIN:VCALENDAR
VERSION:2.0
PRODID:-//wp-events-plugin.com//7.2.3.1//EN
TZID:America/Los_Angeles
X-WR-TIMEZONE:America/Los_Angeles
BEGIN:VEVENT
UID:15625@fakce.org
DTSTART;TZID=America/Los_Angeles:20230404T180000
DTEND;TZID=America/Los_Angeles:20230404T210000
DTSTAMP:20230216T154852Z
URL:https://fakce.org/events/online-dunkle-an-adoption-story-2023-04-04/
SUMMARY:Online | Dunkle: An Adoption Story
DESCRIPTION:This class will review the video story of a boy and his uncle w
 ho go through placement\, reunification and permanency. Participants will 
 watch the short documentary and discuss the challenges and rewards of kins
 hip care. The class will review the changing role for kinship caregivers\,
  learn about the importance of providing support to children through reuni
 fication and permanency\, and how to get creative about what the children 
 may call them through their changing roles.\nRegistration will close on Tu
 esday\, April 4\, 2023 at 7 am \n***Please Note: This class will be faci
 litated on the online platform called Zoom. Internet access and access to 
 a computer/laptop/tablet/smartphone is required to attend.\nThe link to at
 tend this class will be provided at registration.\nPlease follow the link 
 below for a brief tutorial on how to sign up for a free Zoom account.\nZoo
 m User Guide
ATTACH;FMTTYPE=image/jpeg:https://fakce.org/wp-content/uploads/2021/05/Fam
 ily-at-amusement-park.jpg
CATEGORIES:Classes,Online Classes,Specialty Classes
LOCATION:Zoom\, 0000 Zoom \, San Diego\, United States
X-APPLE-STRUCTURED-LOCATION;VALUE=URI;X-ADDRESS=0000 Zoom \, San Diego\, Un
 ited States;X-APPLE-RADIUS=100;X-TITLE=Zoom:geo:0,0
END:VEVENT
BEGIN:VTIMEZONE
TZID:America/Los_Angeles
X-LIC-LOCATION:America/Los_Angeles
BEGIN:DAYLIGHT
DTSTART:20230312T030000
TZOFFSETFROM:-0800
TZOFFSETTO:-0700
TZNAME:PDT
END:DAYLIGHT
END:VTIMEZONE
END:VCALENDAR