BEGIN:VCALENDAR
VERSION:2.0
PRODID:-//wp-events-plugin.com//7.2.3.1//EN
TZID:America/Los_Angeles
X-WR-TIMEZONE:America/Los_Angeles
BEGIN:VEVENT
UID:14267@fakce.org
DTSTART;TZID=America/Los_Angeles:20220518T150000
DTEND;TZID=America/Los_Angeles:20220518T180000
DTSTAMP:20220407T184606Z
URL:https://fakce.org/events/online-developmental-stages-and-effects-of-ch
 ild-abuse-neglect-early-childhood-6%e2%80%9011-2022-05-18/
SUMMARY:Online | Developmental Stages and Effects of Child Abuse & Neglect 
 (Early Childhood 6‐11)
DESCRIPTION:\n\nGuest Instructor: Jody Johnston-Pawel\, LSW\, CFLE\n\nIn th
 is interactive webinar\, you will engage your creativity while learning a
 bout typical development in school‐aged children\, typical challenging b
 ehaviors they might show\, the developmental purpose those behaviors serve
 \, and how to respond in ways that support their healthy development. You
 ’ll also learn about the symptoms of child abuse and neglect you might s
 ee in school‐ age children. You’ll walk away with tips for responding 
 to typical challenging behavior in young children and what to do when you 
 see red ﬂags warning of trauma.\nRegistration will close on Wednesday\, 
 May 18\, 2022\, at 7 am\n***Please Note: This class will be facilitated on
  the online platform called Zoom. Internet access and access to a computer
 /laptop/tablet/smartphone is required to attend.\nThe link to attend this 
 class will be provided at registration.\nPlease follow the link below for 
 a brief tutorial on how to sign up for a free Zoom account.\nZoom User Gui
 de
ATTACH;FMTTYPE=image/jpeg:https://fakce.org/wp-content/uploads/2016/08/o-C
 LASSROOM-facebook.jpg
CATEGORIES:Classes,Online Classes,Specialty Classes
LOCATION:Zoom\, 0000 Zoom \, San Diego\, United States
X-APPLE-STRUCTURED-LOCATION;VALUE=URI;X-ADDRESS=0000 Zoom \, San Diego\, Un
 ited States;X-APPLE-RADIUS=100;X-TITLE=Zoom:geo:0,0
END:VEVENT
BEGIN:VTIMEZONE
TZID:America/Los_Angeles
X-LIC-LOCATION:America/Los_Angeles
BEGIN:DAYLIGHT
DTSTART:20220313T030000
TZOFFSETFROM:-0800
TZOFFSETTO:-0700
TZNAME:PDT
END:DAYLIGHT
END:VTIMEZONE
END:VCALENDAR