BEGIN:VCALENDAR
VERSION:2.0
PRODID:-//wp-events-plugin.com//7.2.3.1//EN
TZID:America/Los_Angeles
X-WR-TIMEZONE:America/Los_Angeles
BEGIN:VEVENT
UID:14253@fakce.org
DTSTART;TZID=America/Los_Angeles:20220506T150000
DTEND;TZID=America/Los_Angeles:20220506T180000
DTSTAMP:20220407T202525Z
URL:https://fakce.org/events/online-developmental-stages-and-e%ef%ac%80ect
 s-of-child-abuse-neglect-early-childhood-0%e2%80%905-2022-05-06/
SUMMARY:Online |  Developmental Stages and Eﬀects of Child Abuse & Neglec
 t (Early Childhood 0‐5)
DESCRIPTION:Special Instructor: Jody Johnston Pawel\, LSW\, CFLE\nJody John
 ston Pawel is a Licensed Social Worker in the State of Ohio and Certiﬁed
  Family Life Educator. She is the author of the award‐winning The Parent
 ’s Toolshop® b of the Relationship Toolshop® International Training In
 stitute. LLC.\n\nIn this interactive webinar\, you will engage your creati
 vity while learning about typical development in young children\, typical 
 challenging behaviors they might show\, the developmental purpose those be
 haviors serve\, and how to respond in ways that support\ntheir healthy dev
 elopment. You’ll also learn about the symptoms of child abuse and neglec
 t you might see in young children and the eﬀects of trauma on their deve
 lopment. You’ll walk away with tips for responding to typical challengin
 g behavior in young children and what to do when you see red ﬂags warnin
 g of trauma.\nRegistration will close on Friday\, May 6\, 2022\, at 7am \
 n***Please Note: This class will be facilitated on the online platform cal
 led Zoom. Internet access and access to a computer/laptop/tablet/smartphon
 e is required to attend.\nThe link to attend this class will be provided a
 t registration.\nPlease follow the link below for a brief tutorial on how 
 to sign up for a free Zoom account.\nZoom User Guide
ATTACH;FMTTYPE=image/jpeg:https://fakce.org/wp-content/uploads/2016/03/boy
 -928655_1280.jpg
CATEGORIES:Classes,Online Classes,Specialty Classes
LOCATION:Zoom\, 0000 Zoom \, San Diego\, United States
X-APPLE-STRUCTURED-LOCATION;VALUE=URI;X-ADDRESS=0000 Zoom \, San Diego\, Un
 ited States;X-APPLE-RADIUS=100;X-TITLE=Zoom:geo:0,0
END:VEVENT
BEGIN:VTIMEZONE
TZID:America/Los_Angeles
X-LIC-LOCATION:America/Los_Angeles
BEGIN:DAYLIGHT
DTSTART:20220313T030000
TZOFFSETFROM:-0800
TZOFFSETTO:-0700
TZNAME:PDT
END:DAYLIGHT
END:VTIMEZONE
END:VCALENDAR