BEGIN:VCALENDAR
VERSION:2.0
PRODID:-//wp-events-plugin.com//7.2.3.1//EN
TZID:America/Los_Angeles
X-WR-TIMEZONE:America/Los_Angeles
BEGIN:VEVENT
UID:15491@fakce.org
DTSTART;TZID=America/Los_Angeles:20230227T150000
DTEND;TZID=America/Los_Angeles:20230313T180000
DTSTAMP:20221208T185035Z
URL:https://fakce.org/events/online-developmental-stages-and-e%ef%ac%80ect
 s-of-child-abuse-and-neglect-2023-02-27/
SUMMARY:Online | Developmental Stages and Eﬀects of Child Abuse and Negle
 ct
DESCRIPTION:***This workshop consists of 2 parts\, must take both parts for
  credit***\nDescription: Understand the developmental stages children typi
 cally follow and the eﬀects that child abuse and neglect can have on chi
 ldren’s development. Recognize when developmental delays or misbehaviors
  are a result of the child’s developmental delays or misbehaviors are a 
 result of the child's developmental "style"\, past upbringing or a true de
 velopmental delay.\n\nDates:\n\n 	Monday\, February 27\, 2023\n 	Monday\, 
 March 13\, 2o23\n\nRegistration will close on Monday\, February 27\, 2023\
 , at 7am\n&nbsp\;\nThe Foster-Adoptive Parents Toolshop® training series 
 is a comprehensive 30+ hour evidence-based\, trauma informed parenting cur
 riculum for foster and kinship caregivers and adoptive parents. The entire
  series will be oﬀered over the next 8 months\, September 2022\, June 20
 23 and will be taught by the curriculum’s author Jody Johnston Pawel\, L
 SW\, CFLE\, CTSS.\nWhile each individual workshop is valuable as a stand-a
 lone workshop\, when combined they create a parenting system called The Un
 iversal Blueprint® for Parenting Success. You can use this universal syst
 em to prevent common parenting challenges and plan personalized responses 
 and solutions to those that arise\, based on the child\, circumstance\, an
 d family involved. The series oﬀers an overview of the system and its to
 ols\, plus the in-depth workshops in order\, so they build on each other.\
 nDon’t worry if you can’t take them all\, you can take one\, some or a
 s many as you wish! The Series will be oﬀered on the 2nd and 4th Mondays
  from September 2022 to June 2023 from 3-6pm. Please note there are some 2
 - part trainings. You must attend both sessions to get credit.\nTo see a f
 lyer with a complete list of Jody Johnston-Pawel classes\, click here \nG
 uest Instructor: Jody Johnston-Pawel\, LSW\, CFLE\nJody Johnston Pawel is 
 a Licensed Social Worker in the State of Ohio and a Certified Family Life 
 Educator. She is the author of the award-winning The Parent’s Toolshop®
  book and Founder/CEO of the Relationship Toolshop® International Trainin
 g Institute. LLC.\n\n***Please Note: This class will be facilitated on the
  online platform called Zoom. Internet access and access to a computer/lap
 top/tablet/smartphone is required to attend.\nThe link to attend this clas
 s will be provided at registration.\nPlease follow the link below for a br
 ief tutorial on how to sign up for a free Zoom account.\nZoom User Guide
ATTACH;FMTTYPE=image/jpeg:https://fakce.org/wp-content/uploads/2016/08/o-C
 LASSROOM-facebook.jpg
CATEGORIES:Classes,Online Classes,Specialty Classes
LOCATION:Zoom\, 0000 Zoom \, San Diego\, United States
X-APPLE-STRUCTURED-LOCATION;VALUE=URI;X-ADDRESS=0000 Zoom \, San Diego\, Un
 ited States;X-APPLE-RADIUS=100;X-TITLE=Zoom:geo:0,0
END:VEVENT
BEGIN:VTIMEZONE
TZID:America/Los_Angeles
X-LIC-LOCATION:America/Los_Angeles
BEGIN:STANDARD
DTSTART:20221106T010000
TZOFFSETFROM:-0700
TZOFFSETTO:-0800
TZNAME:PST
END:STANDARD
BEGIN:DAYLIGHT
DTSTART:20230312T030000
TZOFFSETFROM:-0800
TZOFFSETTO:-0700
TZNAME:PDT
END:DAYLIGHT
END:VTIMEZONE
END:VCALENDAR