BEGIN:VCALENDAR
VERSION:2.0
PRODID:-//wp-events-plugin.com//7.2.3.1//EN
TZID:America/Los_Angeles
X-WR-TIMEZONE:America/Los_Angeles
BEGIN:VEVENT
UID:15699@fakce.org
DTSTART;TZID=America/Los_Angeles:20260225T120000
DTEND;TZID=America/Los_Angeles:20260225T150000
DTSTAMP:20260225T002250Z
URL:https://fakce.org/events/online-de-escalation-and-harm-reduction-basic
 s-for-resource-parents-2026-02-25/
SUMMARY:Online | De-escalation and Harm Reduction Basics for Resource Paren
 ts
DESCRIPTION:As part of AB 175\, the Updated Foster Youth Rights\, and Writt
 en Directives V.8.0\, CA Resource Parents are required to know and provide
  de‐escalation and harm reduction strategies within their households. Le
 arn how caregivers can utilize effective crisis intervention practices to 
 promote the safety of the children and youth in their care\, particularly 
 for targeting dangerous behaviors\, including exposure to Commercial Sexua
 l Exploitation (CSEC). Learn about the FURS “Family Urgent Response Syst
 em”\, that is in place to support Resource Families and learn about real
  harm reduction strategies examples that have been practiced by both prese
 nters on how to best handle stressful situations that may occur in a resou
 rce home\, including the behaviors of CSEC youth survivor.\nRegistration f
 or this event will close on Wednesday\, February 25\, 2026 at 12pm\n***Ple
 ase Note: This class will be facilitated on the online platform called Zo
 om. Internet access and access to a computer/laptop/tablet/smartphone is r
 equired to attend.\nThe link to attend this class will be provided on the 
 day of class\nPlease follow the link below for a brief tutorial on how to 
 sign up for a free Zoom account.\nZoom User Guide
ATTACH;FMTTYPE=image/jpeg:https://fakce.org/wp-content/uploads/2016/08/Kri
 stinLittlePhotography_Web_1500-009.jpg
CATEGORIES:Classes,Online Classes,Specialty Classes
LOCATION:Zoom\, 0000 Zoom \, San Diego\, United States
X-APPLE-STRUCTURED-LOCATION;VALUE=URI;X-ADDRESS=0000 Zoom \, San Diego\, Un
 ited States;X-APPLE-RADIUS=100;X-TITLE=Zoom:geo:0,0
END:VEVENT
BEGIN:VTIMEZONE
TZID:America/Los_Angeles
X-LIC-LOCATION:America/Los_Angeles
BEGIN:STANDARD
DTSTART:20251102T010000
TZOFFSETFROM:-0700
TZOFFSETTO:-0800
TZNAME:PST
END:STANDARD
END:VTIMEZONE
END:VCALENDAR