BEGIN:VCALENDAR
VERSION:2.0
PRODID:-//wp-events-plugin.com//7.2.3.1//EN
TZID:America/Los_Angeles
X-WR-TIMEZONE:America/Los_Angeles
BEGIN:VEVENT
UID:18433@fakce.org
DTSTART;TZID=America/Los_Angeles:20260129T180000
DTEND;TZID=America/Los_Angeles:20260129T200000
DTSTAMP:20260115T205736Z
URL:https://fakce.org/events/online-de-escalation-and-harm-reduction-basic
 s-for-resource-parents-2026-01-29/
SUMMARY:Online | De-escalation and Harm Reduction Basics for Resource Paren
 ts
DESCRIPTION:Instructors: Robin Thompson\, MSW\n\nDescription: As part of AB
  175\, the Updated Foster Youth Rights\, and Written Directives V.8.0\, CA
  Resource Parents are required to know and provide de‐escalation and har
 m reduction strategies within their households. Learn how caregivers can u
 tilize effective crisis intervention practices to promote the safety of th
 e children and youth in their care\, particularly for targeting dangerous 
 behaviors\, including exposure to Commercial Sexual Exploitation (CSEC). 
 \n***Please Note: This class will be facilitated on the Zoom platform.\nIn
 ternet access and access to a computer/laptop/tablet/smartphone is require
 d to attend.\nWe kindly request that participants avoid using distracting 
 virtual backgrounds. For privacy\, we recommend using the blur feature ins
 tead.\nYou cannot take this class in a vehicle.\nThe Zoom link to attend t
 his class will be provided via email.\nPlease follow the link below for a 
 brief tutorial on how to sign up for a free Zoom account.\nZoom User Guide
ATTACH;FMTTYPE=image/jpeg:https://fakce.org/wp-content/uploads/2016/08/Kri
 stinLittlePhotography_Web_1500-009.jpg
CATEGORIES:Classes,Online Classes,Specialty Classes
LOCATION:Zoom\, 0000 Zoom \, San Diego\, United States
X-APPLE-STRUCTURED-LOCATION;VALUE=URI;X-ADDRESS=0000 Zoom \, San Diego\, Un
 ited States;X-APPLE-RADIUS=100;X-TITLE=Zoom:geo:0,0
END:VEVENT
BEGIN:VTIMEZONE
TZID:America/Los_Angeles
X-LIC-LOCATION:America/Los_Angeles
BEGIN:STANDARD
DTSTART:20251102T010000
TZOFFSETFROM:-0700
TZOFFSETTO:-0800
TZNAME:PST
END:STANDARD
END:VTIMEZONE
END:VCALENDAR